BEGIN:VCALENDAR
VERSION:2.0
PRODID:-//gbt Trier - ECPv6.15.12.2//NONSGML v1.0//EN
CALSCALE:GREGORIAN
METHOD:PUBLISH
X-WR-CALNAME:gbt Trier
X-ORIGINAL-URL:https://www.gbt-trier.de
X-WR-CALDESC:Veranstaltungen für gbt Trier
REFRESH-INTERVAL;VALUE=DURATION:PT1H
X-Robots-Tag:noindex
X-PUBLISHED-TTL:PT1H
BEGIN:VTIMEZONE
TZID:Europe/Berlin
BEGIN:DAYLIGHT
TZOFFSETFROM:+0100
TZOFFSETTO:+0200
TZNAME:CEST
DTSTART:20250330T010000
END:DAYLIGHT
BEGIN:STANDARD
TZOFFSETFROM:+0200
TZOFFSETTO:+0100
TZNAME:CET
DTSTART:20251026T010000
END:STANDARD
BEGIN:DAYLIGHT
TZOFFSETFROM:+0100
TZOFFSETTO:+0200
TZNAME:CEST
DTSTART:20260329T010000
END:DAYLIGHT
BEGIN:STANDARD
TZOFFSETFROM:+0200
TZOFFSETTO:+0100
TZNAME:CET
DTSTART:20261025T010000
END:STANDARD
BEGIN:DAYLIGHT
TZOFFSETFROM:+0100
TZOFFSETTO:+0200
TZNAME:CEST
DTSTART:20270328T010000
END:DAYLIGHT
BEGIN:STANDARD
TZOFFSETFROM:+0200
TZOFFSETTO:+0100
TZNAME:CET
DTSTART:20271031T010000
END:STANDARD
END:VTIMEZONE
BEGIN:VEVENT
DTSTART;TZID=Europe/Berlin:20260424T100000
DTEND;TZID=Europe/Berlin:20260424T100000
DTSTAMP:20260424T115837
CREATED:20260422T085741Z
LAST-MODIFIED:20260422T085837Z
UID:10004190-1777024800-1777024800@www.gbt-trier.de
SUMMARY:Frühjahrsputz in Heiligkreuz
DESCRIPTION:Die gbt informiert\n\n\nDer Bürgerverein Heiligkreuz e.V. veranstaltet einen „DRECK-WEG-TAG“!  \n\n\n\nDiese Aktion soll das Bewusstsein dafür schärfen\, dass unsere Natur und unser Lebensumfeld keine Müllabladeplätze sind. Allzu oft werden achtlos Papiertüten\, Einweg- und Glasflaschen\, Dosen\, Verpackungsmaterial und andere Abfälle weggeworfen. Diese Materialien verrotten nicht\, belasten die Umwelt und verschandeln unseren Stadtteil. \n\n\n\nIm Rahmen einer gemeinsamen Familienaktion – egal ob Eltern mit Kindern oder Großeltern und Enkel – können Kinder spielerisch an das Thema herangeführt werden. Sie können beispielsweise ihre eigene Straße oder eine bevorzugte Ecke zum Sammeln auswählen. Wenn Gleichgesinnte sichzusammentun\, macht es sogar Spaß! Bitte eigene Handschuhe mitbringen. \n\n\n\n \n\n\n\nTreffpunkt: Samstag\, 24. April 2026 – 10:00 Uhr – Heiligkreuzkapelle \n\n\n\nIn diesem Jahr wird der Bürgerverein Heiligkreuz e.V. vom Hort Heiligkreuz unterstützt\, der an diesem Tag für das leibliche Wohl sorgt. Es wird Kuchen von 10:00 bis 13:00 Uhr vom Hort Heiligkreuz zum Verkauf angeboten werden.  \n\n\n\nAnmeldung:  \n\n\n\nEine Anmeldung ist per E-Mail an info@buergerverein-trier-heiligkreuz.de möglich – oder einfach spontan vorbeikommen! \n\n\n\n\n\n\n\nDie beschriebene Veranstaltung wird nicht von der Wohnungsbau und Treuhand AG gbt durchgeführt. Sämtliche Angaben zu Inhalt\, Ablauf und Organisation stammen direkt vom Veranstalter. Für weitere Informationen oder Rückfragen wenden Sie sich bitte direkt an den Veranstalter.
URL:https://www.gbt-trier.de/veranstaltungen/fruehjahrsputz-in-heiligkreuz/
LOCATION:Heiligkreuzkapelle\, Rotbachstraße 19\, Trier\, Rheinland-Pfalz\, 54295\, Germany
CATEGORIES:Veranstaltungen
ATTACH;FMTTYPE=image/jpeg:https://www.gbt-trier.de/wp-content/uploads/2025/03/Fruehjarsputz-Logo.jpg
END:VEVENT
END:VCALENDAR