BEGIN:VCALENDAR
VERSION:2.0
PRODID:-//gbt Trier - ECPv6.15.12.2//NONSGML v1.0//EN
CALSCALE:GREGORIAN
METHOD:PUBLISH
X-WR-CALNAME:gbt Trier
X-ORIGINAL-URL:https://www.gbt-trier.de
X-WR-CALDESC:Veranstaltungen für gbt Trier
REFRESH-INTERVAL;VALUE=DURATION:PT1H
X-Robots-Tag:noindex
X-PUBLISHED-TTL:PT1H
BEGIN:VTIMEZONE
TZID:Europe/Berlin
BEGIN:DAYLIGHT
TZOFFSETFROM:+0100
TZOFFSETTO:+0200
TZNAME:CEST
DTSTART:20270328T010000
END:DAYLIGHT
BEGIN:STANDARD
TZOFFSETFROM:+0200
TZOFFSETTO:+0100
TZNAME:CET
DTSTART:20271031T010000
END:STANDARD
BEGIN:DAYLIGHT
TZOFFSETFROM:+0100
TZOFFSETTO:+0200
TZNAME:CEST
DTSTART:20280326T010000
END:DAYLIGHT
BEGIN:STANDARD
TZOFFSETFROM:+0200
TZOFFSETTO:+0100
TZNAME:CET
DTSTART:20281029T010000
END:STANDARD
BEGIN:DAYLIGHT
TZOFFSETFROM:+0100
TZOFFSETTO:+0200
TZNAME:CEST
DTSTART:20290325T010000
END:DAYLIGHT
BEGIN:STANDARD
TZOFFSETFROM:+0200
TZOFFSETTO:+0100
TZNAME:CET
DTSTART:20291028T010000
END:STANDARD
END:VTIMEZONE
BEGIN:VEVENT
DTSTART;TZID=Europe/Berlin:20280201T090000
DTEND;TZID=Europe/Berlin:20280201T100000
DTSTAMP:20260425T125620
CREATED:20250204T141330Z
LAST-MODIFIED:20250214T081043Z
UID:10003779-1833008400-1833012000@www.gbt-trier.de
SUMMARY:Service-Büro Weidengraben
DESCRIPTION:In dem angegebenen Zeitraum ist ein/e Kundenbetreuer*in persönlich für Sie da. Sie finden das Service-Büro Am Weidengraben 8 im Erdgeschoss (Wohnung 67).
URL:https://www.gbt-trier.de/veranstaltungen/service-buero-weidengraben-2/2028-02-01/
LOCATION:Service-Büro Weidengraben\, Am Weidengraben 8\, Trier\, Rheinland-Pfalz\, Germany
CATEGORIES:Öffnungszeiten
END:VEVENT
BEGIN:VEVENT
DTSTART;TZID=Europe/Berlin:20280201T110000
DTEND;TZID=Europe/Berlin:20280201T120000
DTSTAMP:20260425T125620
CREATED:20260223T080720Z
LAST-MODIFIED:20260223T084017Z
UID:10004586-1833015600-1833019200@www.gbt-trier.de
SUMMARY:Service-Büro Ehrang
DESCRIPTION:Das Service Büro\, in der Florastr. 22 im Erdgeschoss rechts\, ist zu den genannten Zeiten von einem/r Kundenbetreuer*in besetzt.
URL:https://www.gbt-trier.de/veranstaltungen/service-buero-ehrang/2028-02-01/
LOCATION:Service-Büro Ehrang\, Florastraße 22\, Ehrang\, Rheinland-Pfalz\, Germany
CATEGORIES:Öffnungszeiten
END:VEVENT
BEGIN:VEVENT
DTSTART;TZID=Europe/Berlin:20280202T090000
DTEND;TZID=Europe/Berlin:20280202T100000
DTSTAMP:20260425T125620
CREATED:20260223T082304Z
LAST-MODIFIED:20260223T084627Z
UID:10005214-1833094800-1833098400@www.gbt-trier.de
SUMMARY:Service-Büro Mariahof
DESCRIPTION:In dem angegebenen Zeitraum ist ein/e Kundenbetreuer*in persönlich für Sie da. Sie finden das Service-Büro in der Reichensperger Straße 14a.
URL:https://www.gbt-trier.de/veranstaltungen/service-buero-mariahof-4/2028-02-02/
LOCATION:Maps\, Reichensperger Straße 14 a\, Trier\, 54295\, Germany
CATEGORIES:Öffnungszeiten
END:VEVENT
BEGIN:VEVENT
DTSTART;TZID=Europe/Berlin:20280203T090000
DTEND;TZID=Europe/Berlin:20280203T100000
DTSTAMP:20260425T125620
CREATED:20250204T135250Z
LAST-MODIFIED:20250214T082114Z
UID:10001541-1833181200-1833184800@www.gbt-trier.de
SUMMARY:Service-Büro Im Schammat
DESCRIPTION:Das Service-Büro im Schammat 52 (EG rechts) ist zu den angegebenen Zeiten von einem/r Kundenbetreuer*in besetzt.
URL:https://www.gbt-trier.de/veranstaltungen/service-buero-im-schammat-2/2028-02-03/
LOCATION:Service-Büro Schammat\, Im Schammat 52\, Trier\, Rheinland-Pfalz\, Germany
CATEGORIES:Öffnungszeiten
END:VEVENT
BEGIN:VEVENT
DTSTART;TZID=Europe/Berlin:20280203T090000
DTEND;TZID=Europe/Berlin:20280203T100000
DTSTAMP:20260425T125620
CREATED:20250204T140049Z
LAST-MODIFIED:20250214T082002Z
UID:10002469-1833181200-1833184800@www.gbt-trier.de
SUMMARY:Service-Büro Trier West
DESCRIPTION:Ein/e Kundenbetreuer*in ist persönlich für Sie\, zu den genannten Zeiten\, da. Das Büro befindet sich in der Andreas-Hoevel-Str. 2 im Erdgeschoss (Wohnung 51).
URL:https://www.gbt-trier.de/veranstaltungen/service-buero-trier-west-2/2028-02-03/
LOCATION:Service-Büro West\, Andreas Hoevel Straße 2\, Trier\, Rheinland-Pfalz\, Germany
CATEGORIES:Öffnungszeiten
END:VEVENT
BEGIN:VEVENT
DTSTART;TZID=Europe/Berlin:20280208T090000
DTEND;TZID=Europe/Berlin:20280208T100000
DTSTAMP:20260425T125620
CREATED:20250204T141330Z
LAST-MODIFIED:20250214T081043Z
UID:10003780-1833613200-1833616800@www.gbt-trier.de
SUMMARY:Service-Büro Weidengraben
DESCRIPTION:In dem angegebenen Zeitraum ist ein/e Kundenbetreuer*in persönlich für Sie da. Sie finden das Service-Büro Am Weidengraben 8 im Erdgeschoss (Wohnung 67).
URL:https://www.gbt-trier.de/veranstaltungen/service-buero-weidengraben-2/2028-02-08/
LOCATION:Service-Büro Weidengraben\, Am Weidengraben 8\, Trier\, Rheinland-Pfalz\, Germany
CATEGORIES:Öffnungszeiten
END:VEVENT
BEGIN:VEVENT
DTSTART;TZID=Europe/Berlin:20280208T110000
DTEND;TZID=Europe/Berlin:20280208T120000
DTSTAMP:20260425T125620
CREATED:20260223T080720Z
LAST-MODIFIED:20260223T084017Z
UID:10004587-1833620400-1833624000@www.gbt-trier.de
SUMMARY:Service-Büro Ehrang
DESCRIPTION:Das Service Büro\, in der Florastr. 22 im Erdgeschoss rechts\, ist zu den genannten Zeiten von einem/r Kundenbetreuer*in besetzt.
URL:https://www.gbt-trier.de/veranstaltungen/service-buero-ehrang/2028-02-08/
LOCATION:Service-Büro Ehrang\, Florastraße 22\, Ehrang\, Rheinland-Pfalz\, Germany
CATEGORIES:Öffnungszeiten
END:VEVENT
BEGIN:VEVENT
DTSTART;TZID=Europe/Berlin:20280209T090000
DTEND;TZID=Europe/Berlin:20280209T100000
DTSTAMP:20260425T125620
CREATED:20260223T082304Z
LAST-MODIFIED:20260223T084627Z
UID:10005215-1833699600-1833703200@www.gbt-trier.de
SUMMARY:Service-Büro Mariahof
DESCRIPTION:In dem angegebenen Zeitraum ist ein/e Kundenbetreuer*in persönlich für Sie da. Sie finden das Service-Büro in der Reichensperger Straße 14a.
URL:https://www.gbt-trier.de/veranstaltungen/service-buero-mariahof-4/2028-02-09/
LOCATION:Maps\, Reichensperger Straße 14 a\, Trier\, 54295\, Germany
CATEGORIES:Öffnungszeiten
END:VEVENT
BEGIN:VEVENT
DTSTART;TZID=Europe/Berlin:20280210T090000
DTEND;TZID=Europe/Berlin:20280210T100000
DTSTAMP:20260425T125621
CREATED:20250204T135250Z
LAST-MODIFIED:20250214T082114Z
UID:10001542-1833786000-1833789600@www.gbt-trier.de
SUMMARY:Service-Büro Im Schammat
DESCRIPTION:Das Service-Büro im Schammat 52 (EG rechts) ist zu den angegebenen Zeiten von einem/r Kundenbetreuer*in besetzt.
URL:https://www.gbt-trier.de/veranstaltungen/service-buero-im-schammat-2/2028-02-10/
LOCATION:Service-Büro Schammat\, Im Schammat 52\, Trier\, Rheinland-Pfalz\, Germany
CATEGORIES:Öffnungszeiten
END:VEVENT
BEGIN:VEVENT
DTSTART;TZID=Europe/Berlin:20280210T090000
DTEND;TZID=Europe/Berlin:20280210T100000
DTSTAMP:20260425T125621
CREATED:20250204T140049Z
LAST-MODIFIED:20250214T082002Z
UID:10002470-1833786000-1833789600@www.gbt-trier.de
SUMMARY:Service-Büro Trier West
DESCRIPTION:Ein/e Kundenbetreuer*in ist persönlich für Sie\, zu den genannten Zeiten\, da. Das Büro befindet sich in der Andreas-Hoevel-Str. 2 im Erdgeschoss (Wohnung 51).
URL:https://www.gbt-trier.de/veranstaltungen/service-buero-trier-west-2/2028-02-10/
LOCATION:Service-Büro West\, Andreas Hoevel Straße 2\, Trier\, Rheinland-Pfalz\, Germany
CATEGORIES:Öffnungszeiten
END:VEVENT
BEGIN:VEVENT
DTSTART;TZID=Europe/Berlin:20280215T090000
DTEND;TZID=Europe/Berlin:20280215T100000
DTSTAMP:20260425T125621
CREATED:20250204T141330Z
LAST-MODIFIED:20250214T081043Z
UID:10003781-1834218000-1834221600@www.gbt-trier.de
SUMMARY:Service-Büro Weidengraben
DESCRIPTION:In dem angegebenen Zeitraum ist ein/e Kundenbetreuer*in persönlich für Sie da. Sie finden das Service-Büro Am Weidengraben 8 im Erdgeschoss (Wohnung 67).
URL:https://www.gbt-trier.de/veranstaltungen/service-buero-weidengraben-2/2028-02-15/
LOCATION:Service-Büro Weidengraben\, Am Weidengraben 8\, Trier\, Rheinland-Pfalz\, Germany
CATEGORIES:Öffnungszeiten
END:VEVENT
BEGIN:VEVENT
DTSTART;TZID=Europe/Berlin:20280215T110000
DTEND;TZID=Europe/Berlin:20280215T120000
DTSTAMP:20260425T125621
CREATED:20260223T080720Z
LAST-MODIFIED:20260223T084017Z
UID:10004588-1834225200-1834228800@www.gbt-trier.de
SUMMARY:Service-Büro Ehrang
DESCRIPTION:Das Service Büro\, in der Florastr. 22 im Erdgeschoss rechts\, ist zu den genannten Zeiten von einem/r Kundenbetreuer*in besetzt.
URL:https://www.gbt-trier.de/veranstaltungen/service-buero-ehrang/2028-02-15/
LOCATION:Service-Büro Ehrang\, Florastraße 22\, Ehrang\, Rheinland-Pfalz\, Germany
CATEGORIES:Öffnungszeiten
END:VEVENT
BEGIN:VEVENT
DTSTART;TZID=Europe/Berlin:20280216T090000
DTEND;TZID=Europe/Berlin:20280216T100000
DTSTAMP:20260425T125621
CREATED:20260223T082304Z
LAST-MODIFIED:20260223T084627Z
UID:10005216-1834304400-1834308000@www.gbt-trier.de
SUMMARY:Service-Büro Mariahof
DESCRIPTION:In dem angegebenen Zeitraum ist ein/e Kundenbetreuer*in persönlich für Sie da. Sie finden das Service-Büro in der Reichensperger Straße 14a.
URL:https://www.gbt-trier.de/veranstaltungen/service-buero-mariahof-4/2028-02-16/
LOCATION:Maps\, Reichensperger Straße 14 a\, Trier\, 54295\, Germany
CATEGORIES:Öffnungszeiten
END:VEVENT
BEGIN:VEVENT
DTSTART;TZID=Europe/Berlin:20280217T090000
DTEND;TZID=Europe/Berlin:20280217T100000
DTSTAMP:20260425T125621
CREATED:20250204T135250Z
LAST-MODIFIED:20250214T082114Z
UID:10001543-1834390800-1834394400@www.gbt-trier.de
SUMMARY:Service-Büro Im Schammat
DESCRIPTION:Das Service-Büro im Schammat 52 (EG rechts) ist zu den angegebenen Zeiten von einem/r Kundenbetreuer*in besetzt.
URL:https://www.gbt-trier.de/veranstaltungen/service-buero-im-schammat-2/2028-02-17/
LOCATION:Service-Büro Schammat\, Im Schammat 52\, Trier\, Rheinland-Pfalz\, Germany
CATEGORIES:Öffnungszeiten
END:VEVENT
BEGIN:VEVENT
DTSTART;TZID=Europe/Berlin:20280217T090000
DTEND;TZID=Europe/Berlin:20280217T100000
DTSTAMP:20260425T125621
CREATED:20250204T140049Z
LAST-MODIFIED:20250214T082002Z
UID:10002471-1834390800-1834394400@www.gbt-trier.de
SUMMARY:Service-Büro Trier West
DESCRIPTION:Ein/e Kundenbetreuer*in ist persönlich für Sie\, zu den genannten Zeiten\, da. Das Büro befindet sich in der Andreas-Hoevel-Str. 2 im Erdgeschoss (Wohnung 51).
URL:https://www.gbt-trier.de/veranstaltungen/service-buero-trier-west-2/2028-02-17/
LOCATION:Service-Büro West\, Andreas Hoevel Straße 2\, Trier\, Rheinland-Pfalz\, Germany
CATEGORIES:Öffnungszeiten
END:VEVENT
BEGIN:VEVENT
DTSTART;TZID=Europe/Berlin:20280222T090000
DTEND;TZID=Europe/Berlin:20280222T100000
DTSTAMP:20260425T125621
CREATED:20250204T141330Z
LAST-MODIFIED:20250214T081043Z
UID:10003782-1834822800-1834826400@www.gbt-trier.de
SUMMARY:Service-Büro Weidengraben
DESCRIPTION:In dem angegebenen Zeitraum ist ein/e Kundenbetreuer*in persönlich für Sie da. Sie finden das Service-Büro Am Weidengraben 8 im Erdgeschoss (Wohnung 67).
URL:https://www.gbt-trier.de/veranstaltungen/service-buero-weidengraben-2/2028-02-22/
LOCATION:Service-Büro Weidengraben\, Am Weidengraben 8\, Trier\, Rheinland-Pfalz\, Germany
CATEGORIES:Öffnungszeiten
END:VEVENT
BEGIN:VEVENT
DTSTART;TZID=Europe/Berlin:20280222T110000
DTEND;TZID=Europe/Berlin:20280222T120000
DTSTAMP:20260425T125621
CREATED:20260223T080720Z
LAST-MODIFIED:20260223T084017Z
UID:10004589-1834830000-1834833600@www.gbt-trier.de
SUMMARY:Service-Büro Ehrang
DESCRIPTION:Das Service Büro\, in der Florastr. 22 im Erdgeschoss rechts\, ist zu den genannten Zeiten von einem/r Kundenbetreuer*in besetzt.
URL:https://www.gbt-trier.de/veranstaltungen/service-buero-ehrang/2028-02-22/
LOCATION:Service-Büro Ehrang\, Florastraße 22\, Ehrang\, Rheinland-Pfalz\, Germany
CATEGORIES:Öffnungszeiten
END:VEVENT
BEGIN:VEVENT
DTSTART;TZID=Europe/Berlin:20280223T090000
DTEND;TZID=Europe/Berlin:20280223T100000
DTSTAMP:20260425T125621
CREATED:20260223T082304Z
LAST-MODIFIED:20260223T084627Z
UID:10005217-1834909200-1834912800@www.gbt-trier.de
SUMMARY:Service-Büro Mariahof
DESCRIPTION:In dem angegebenen Zeitraum ist ein/e Kundenbetreuer*in persönlich für Sie da. Sie finden das Service-Büro in der Reichensperger Straße 14a.
URL:https://www.gbt-trier.de/veranstaltungen/service-buero-mariahof-4/2028-02-23/
LOCATION:Maps\, Reichensperger Straße 14 a\, Trier\, 54295\, Germany
CATEGORIES:Öffnungszeiten
END:VEVENT
BEGIN:VEVENT
DTSTART;TZID=Europe/Berlin:20280224T090000
DTEND;TZID=Europe/Berlin:20280224T100000
DTSTAMP:20260425T125621
CREATED:20250204T135250Z
LAST-MODIFIED:20250214T082114Z
UID:10001544-1834995600-1834999200@www.gbt-trier.de
SUMMARY:Service-Büro Im Schammat
DESCRIPTION:Das Service-Büro im Schammat 52 (EG rechts) ist zu den angegebenen Zeiten von einem/r Kundenbetreuer*in besetzt.
URL:https://www.gbt-trier.de/veranstaltungen/service-buero-im-schammat-2/2028-02-24/
LOCATION:Service-Büro Schammat\, Im Schammat 52\, Trier\, Rheinland-Pfalz\, Germany
CATEGORIES:Öffnungszeiten
END:VEVENT
BEGIN:VEVENT
DTSTART;TZID=Europe/Berlin:20280224T090000
DTEND;TZID=Europe/Berlin:20280224T100000
DTSTAMP:20260425T125621
CREATED:20250204T140049Z
LAST-MODIFIED:20250214T082002Z
UID:10002472-1834995600-1834999200@www.gbt-trier.de
SUMMARY:Service-Büro Trier West
DESCRIPTION:Ein/e Kundenbetreuer*in ist persönlich für Sie\, zu den genannten Zeiten\, da. Das Büro befindet sich in der Andreas-Hoevel-Str. 2 im Erdgeschoss (Wohnung 51).
URL:https://www.gbt-trier.de/veranstaltungen/service-buero-trier-west-2/2028-02-24/
LOCATION:Service-Büro West\, Andreas Hoevel Straße 2\, Trier\, Rheinland-Pfalz\, Germany
CATEGORIES:Öffnungszeiten
END:VEVENT
BEGIN:VEVENT
DTSTART;TZID=Europe/Berlin:20280229T090000
DTEND;TZID=Europe/Berlin:20280229T100000
DTSTAMP:20260425T125621
CREATED:20250204T141330Z
LAST-MODIFIED:20250214T081043Z
UID:10003783-1835427600-1835431200@www.gbt-trier.de
SUMMARY:Service-Büro Weidengraben
DESCRIPTION:In dem angegebenen Zeitraum ist ein/e Kundenbetreuer*in persönlich für Sie da. Sie finden das Service-Büro Am Weidengraben 8 im Erdgeschoss (Wohnung 67).
URL:https://www.gbt-trier.de/veranstaltungen/service-buero-weidengraben-2/2028-02-29/
LOCATION:Service-Büro Weidengraben\, Am Weidengraben 8\, Trier\, Rheinland-Pfalz\, Germany
CATEGORIES:Öffnungszeiten
END:VEVENT
BEGIN:VEVENT
DTSTART;TZID=Europe/Berlin:20280229T110000
DTEND;TZID=Europe/Berlin:20280229T120000
DTSTAMP:20260425T125621
CREATED:20260223T080720Z
LAST-MODIFIED:20260223T084017Z
UID:10004590-1835434800-1835438400@www.gbt-trier.de
SUMMARY:Service-Büro Ehrang
DESCRIPTION:Das Service Büro\, in der Florastr. 22 im Erdgeschoss rechts\, ist zu den genannten Zeiten von einem/r Kundenbetreuer*in besetzt.
URL:https://www.gbt-trier.de/veranstaltungen/service-buero-ehrang/2028-02-29/
LOCATION:Service-Büro Ehrang\, Florastraße 22\, Ehrang\, Rheinland-Pfalz\, Germany
CATEGORIES:Öffnungszeiten
END:VEVENT
END:VCALENDAR