BEGIN:VCALENDAR
VERSION:2.0
PRODID:-//gbt Trier - ECPv6.15.12.2//NONSGML v1.0//EN
CALSCALE:GREGORIAN
METHOD:PUBLISH
X-WR-CALNAME:gbt Trier
X-ORIGINAL-URL:https://www.gbt-trier.de
X-WR-CALDESC:Veranstaltungen für gbt Trier
REFRESH-INTERVAL;VALUE=DURATION:PT1H
X-Robots-Tag:noindex
X-PUBLISHED-TTL:PT1H
BEGIN:VTIMEZONE
TZID:Europe/Berlin
BEGIN:DAYLIGHT
TZOFFSETFROM:+0100
TZOFFSETTO:+0200
TZNAME:CEST
DTSTART:20270328T010000
END:DAYLIGHT
BEGIN:STANDARD
TZOFFSETFROM:+0200
TZOFFSETTO:+0100
TZNAME:CET
DTSTART:20271031T010000
END:STANDARD
BEGIN:DAYLIGHT
TZOFFSETFROM:+0100
TZOFFSETTO:+0200
TZNAME:CEST
DTSTART:20280326T010000
END:DAYLIGHT
BEGIN:STANDARD
TZOFFSETFROM:+0200
TZOFFSETTO:+0100
TZNAME:CET
DTSTART:20281029T010000
END:STANDARD
BEGIN:DAYLIGHT
TZOFFSETFROM:+0100
TZOFFSETTO:+0200
TZNAME:CEST
DTSTART:20290325T010000
END:DAYLIGHT
BEGIN:STANDARD
TZOFFSETFROM:+0200
TZOFFSETTO:+0100
TZNAME:CET
DTSTART:20291028T010000
END:STANDARD
END:VTIMEZONE
BEGIN:VEVENT
DTSTART;TZID=Europe/Berlin:20280601T090000
DTEND;TZID=Europe/Berlin:20280601T100000
DTSTAMP:20260425T201210
CREATED:20250204T135250Z
LAST-MODIFIED:20250214T082114Z
UID:10001558-1843462800-1843466400@www.gbt-trier.de
SUMMARY:Service-Büro Im Schammat
DESCRIPTION:Das Service-Büro im Schammat 52 (EG rechts) ist zu den angegebenen Zeiten von einem/r Kundenbetreuer*in besetzt.
URL:https://www.gbt-trier.de/veranstaltungen/service-buero-im-schammat-2/2028-06-01/
LOCATION:Service-Büro Schammat\, Im Schammat 52\, Trier\, Rheinland-Pfalz\, Germany
CATEGORIES:Öffnungszeiten
END:VEVENT
BEGIN:VEVENT
DTSTART;TZID=Europe/Berlin:20280601T090000
DTEND;TZID=Europe/Berlin:20280601T100000
DTSTAMP:20260425T201210
CREATED:20250204T140049Z
LAST-MODIFIED:20250214T082002Z
UID:10002486-1843462800-1843466400@www.gbt-trier.de
SUMMARY:Service-Büro Trier West
DESCRIPTION:Ein/e Kundenbetreuer*in ist persönlich für Sie\, zu den genannten Zeiten\, da. Das Büro befindet sich in der Andreas-Hoevel-Str. 2 im Erdgeschoss (Wohnung 51).
URL:https://www.gbt-trier.de/veranstaltungen/service-buero-trier-west-2/2028-06-01/
LOCATION:Service-Büro West\, Andreas Hoevel Straße 2\, Trier\, Rheinland-Pfalz\, Germany
CATEGORIES:Öffnungszeiten
END:VEVENT
BEGIN:VEVENT
DTSTART;TZID=Europe/Berlin:20280606T090000
DTEND;TZID=Europe/Berlin:20280606T100000
DTSTAMP:20260425T201211
CREATED:20250204T141330Z
LAST-MODIFIED:20250214T081043Z
UID:10003797-1843894800-1843898400@www.gbt-trier.de
SUMMARY:Service-Büro Weidengraben
DESCRIPTION:In dem angegebenen Zeitraum ist ein/e Kundenbetreuer*in persönlich für Sie da. Sie finden das Service-Büro Am Weidengraben 8 im Erdgeschoss (Wohnung 67).
URL:https://www.gbt-trier.de/veranstaltungen/service-buero-weidengraben-2/2028-06-06/
LOCATION:Service-Büro Weidengraben\, Am Weidengraben 8\, Trier\, Rheinland-Pfalz\, Germany
CATEGORIES:Öffnungszeiten
END:VEVENT
BEGIN:VEVENT
DTSTART;TZID=Europe/Berlin:20280606T110000
DTEND;TZID=Europe/Berlin:20280606T120000
DTSTAMP:20260425T201211
CREATED:20260223T080720Z
LAST-MODIFIED:20260223T084017Z
UID:10004604-1843902000-1843905600@www.gbt-trier.de
SUMMARY:Service-Büro Ehrang
DESCRIPTION:Das Service Büro\, in der Florastr. 22 im Erdgeschoss rechts\, ist zu den genannten Zeiten von einem/r Kundenbetreuer*in besetzt.
URL:https://www.gbt-trier.de/veranstaltungen/service-buero-ehrang/2028-06-06/
LOCATION:Service-Büro Ehrang\, Florastraße 22\, Ehrang\, Rheinland-Pfalz\, Germany
CATEGORIES:Öffnungszeiten
END:VEVENT
BEGIN:VEVENT
DTSTART;TZID=Europe/Berlin:20280607T090000
DTEND;TZID=Europe/Berlin:20280607T100000
DTSTAMP:20260425T201211
CREATED:20260223T082304Z
LAST-MODIFIED:20260223T084627Z
UID:10005232-1843981200-1843984800@www.gbt-trier.de
SUMMARY:Service-Büro Mariahof
DESCRIPTION:In dem angegebenen Zeitraum ist ein/e Kundenbetreuer*in persönlich für Sie da. Sie finden das Service-Büro in der Reichensperger Straße 14a.
URL:https://www.gbt-trier.de/veranstaltungen/service-buero-mariahof-4/2028-06-07/
LOCATION:Maps\, Reichensperger Straße 14 a\, Trier\, 54295\, Germany
CATEGORIES:Öffnungszeiten
END:VEVENT
BEGIN:VEVENT
DTSTART;TZID=Europe/Berlin:20280608T090000
DTEND;TZID=Europe/Berlin:20280608T100000
DTSTAMP:20260425T201211
CREATED:20250204T135250Z
LAST-MODIFIED:20250214T082114Z
UID:10001559-1844067600-1844071200@www.gbt-trier.de
SUMMARY:Service-Büro Im Schammat
DESCRIPTION:Das Service-Büro im Schammat 52 (EG rechts) ist zu den angegebenen Zeiten von einem/r Kundenbetreuer*in besetzt.
URL:https://www.gbt-trier.de/veranstaltungen/service-buero-im-schammat-2/2028-06-08/
LOCATION:Service-Büro Schammat\, Im Schammat 52\, Trier\, Rheinland-Pfalz\, Germany
CATEGORIES:Öffnungszeiten
END:VEVENT
BEGIN:VEVENT
DTSTART;TZID=Europe/Berlin:20280608T090000
DTEND;TZID=Europe/Berlin:20280608T100000
DTSTAMP:20260425T201211
CREATED:20250204T140049Z
LAST-MODIFIED:20250214T082002Z
UID:10002487-1844067600-1844071200@www.gbt-trier.de
SUMMARY:Service-Büro Trier West
DESCRIPTION:Ein/e Kundenbetreuer*in ist persönlich für Sie\, zu den genannten Zeiten\, da. Das Büro befindet sich in der Andreas-Hoevel-Str. 2 im Erdgeschoss (Wohnung 51).
URL:https://www.gbt-trier.de/veranstaltungen/service-buero-trier-west-2/2028-06-08/
LOCATION:Service-Büro West\, Andreas Hoevel Straße 2\, Trier\, Rheinland-Pfalz\, Germany
CATEGORIES:Öffnungszeiten
END:VEVENT
BEGIN:VEVENT
DTSTART;TZID=Europe/Berlin:20280613T090000
DTEND;TZID=Europe/Berlin:20280613T100000
DTSTAMP:20260425T201211
CREATED:20250204T141330Z
LAST-MODIFIED:20250214T081043Z
UID:10003798-1844499600-1844503200@www.gbt-trier.de
SUMMARY:Service-Büro Weidengraben
DESCRIPTION:In dem angegebenen Zeitraum ist ein/e Kundenbetreuer*in persönlich für Sie da. Sie finden das Service-Büro Am Weidengraben 8 im Erdgeschoss (Wohnung 67).
URL:https://www.gbt-trier.de/veranstaltungen/service-buero-weidengraben-2/2028-06-13/
LOCATION:Service-Büro Weidengraben\, Am Weidengraben 8\, Trier\, Rheinland-Pfalz\, Germany
CATEGORIES:Öffnungszeiten
END:VEVENT
BEGIN:VEVENT
DTSTART;TZID=Europe/Berlin:20280613T110000
DTEND;TZID=Europe/Berlin:20280613T120000
DTSTAMP:20260425T201211
CREATED:20260223T080720Z
LAST-MODIFIED:20260223T084017Z
UID:10004605-1844506800-1844510400@www.gbt-trier.de
SUMMARY:Service-Büro Ehrang
DESCRIPTION:Das Service Büro\, in der Florastr. 22 im Erdgeschoss rechts\, ist zu den genannten Zeiten von einem/r Kundenbetreuer*in besetzt.
URL:https://www.gbt-trier.de/veranstaltungen/service-buero-ehrang/2028-06-13/
LOCATION:Service-Büro Ehrang\, Florastraße 22\, Ehrang\, Rheinland-Pfalz\, Germany
CATEGORIES:Öffnungszeiten
END:VEVENT
BEGIN:VEVENT
DTSTART;TZID=Europe/Berlin:20280614T090000
DTEND;TZID=Europe/Berlin:20280614T100000
DTSTAMP:20260425T201211
CREATED:20260223T082304Z
LAST-MODIFIED:20260223T084627Z
UID:10005233-1844586000-1844589600@www.gbt-trier.de
SUMMARY:Service-Büro Mariahof
DESCRIPTION:In dem angegebenen Zeitraum ist ein/e Kundenbetreuer*in persönlich für Sie da. Sie finden das Service-Büro in der Reichensperger Straße 14a.
URL:https://www.gbt-trier.de/veranstaltungen/service-buero-mariahof-4/2028-06-14/
LOCATION:Maps\, Reichensperger Straße 14 a\, Trier\, 54295\, Germany
CATEGORIES:Öffnungszeiten
END:VEVENT
BEGIN:VEVENT
DTSTART;TZID=Europe/Berlin:20280615T090000
DTEND;TZID=Europe/Berlin:20280615T100000
DTSTAMP:20260425T201211
CREATED:20250204T135250Z
LAST-MODIFIED:20250214T082114Z
UID:10001560-1844672400-1844676000@www.gbt-trier.de
SUMMARY:Service-Büro Im Schammat
DESCRIPTION:Das Service-Büro im Schammat 52 (EG rechts) ist zu den angegebenen Zeiten von einem/r Kundenbetreuer*in besetzt.
URL:https://www.gbt-trier.de/veranstaltungen/service-buero-im-schammat-2/2028-06-15/
LOCATION:Service-Büro Schammat\, Im Schammat 52\, Trier\, Rheinland-Pfalz\, Germany
CATEGORIES:Öffnungszeiten
END:VEVENT
BEGIN:VEVENT
DTSTART;TZID=Europe/Berlin:20280615T090000
DTEND;TZID=Europe/Berlin:20280615T100000
DTSTAMP:20260425T201211
CREATED:20250204T140049Z
LAST-MODIFIED:20250214T082002Z
UID:10002488-1844672400-1844676000@www.gbt-trier.de
SUMMARY:Service-Büro Trier West
DESCRIPTION:Ein/e Kundenbetreuer*in ist persönlich für Sie\, zu den genannten Zeiten\, da. Das Büro befindet sich in der Andreas-Hoevel-Str. 2 im Erdgeschoss (Wohnung 51).
URL:https://www.gbt-trier.de/veranstaltungen/service-buero-trier-west-2/2028-06-15/
LOCATION:Service-Büro West\, Andreas Hoevel Straße 2\, Trier\, Rheinland-Pfalz\, Germany
CATEGORIES:Öffnungszeiten
END:VEVENT
BEGIN:VEVENT
DTSTART;TZID=Europe/Berlin:20280620T090000
DTEND;TZID=Europe/Berlin:20280620T100000
DTSTAMP:20260425T201211
CREATED:20250204T141330Z
LAST-MODIFIED:20250214T081043Z
UID:10003799-1845104400-1845108000@www.gbt-trier.de
SUMMARY:Service-Büro Weidengraben
DESCRIPTION:In dem angegebenen Zeitraum ist ein/e Kundenbetreuer*in persönlich für Sie da. Sie finden das Service-Büro Am Weidengraben 8 im Erdgeschoss (Wohnung 67).
URL:https://www.gbt-trier.de/veranstaltungen/service-buero-weidengraben-2/2028-06-20/
LOCATION:Service-Büro Weidengraben\, Am Weidengraben 8\, Trier\, Rheinland-Pfalz\, Germany
CATEGORIES:Öffnungszeiten
END:VEVENT
BEGIN:VEVENT
DTSTART;TZID=Europe/Berlin:20280620T110000
DTEND;TZID=Europe/Berlin:20280620T120000
DTSTAMP:20260425T201211
CREATED:20260223T080720Z
LAST-MODIFIED:20260223T084017Z
UID:10004606-1845111600-1845115200@www.gbt-trier.de
SUMMARY:Service-Büro Ehrang
DESCRIPTION:Das Service Büro\, in der Florastr. 22 im Erdgeschoss rechts\, ist zu den genannten Zeiten von einem/r Kundenbetreuer*in besetzt.
URL:https://www.gbt-trier.de/veranstaltungen/service-buero-ehrang/2028-06-20/
LOCATION:Service-Büro Ehrang\, Florastraße 22\, Ehrang\, Rheinland-Pfalz\, Germany
CATEGORIES:Öffnungszeiten
END:VEVENT
BEGIN:VEVENT
DTSTART;TZID=Europe/Berlin:20280621T090000
DTEND;TZID=Europe/Berlin:20280621T100000
DTSTAMP:20260425T201211
CREATED:20260223T082304Z
LAST-MODIFIED:20260223T084627Z
UID:10005234-1845190800-1845194400@www.gbt-trier.de
SUMMARY:Service-Büro Mariahof
DESCRIPTION:In dem angegebenen Zeitraum ist ein/e Kundenbetreuer*in persönlich für Sie da. Sie finden das Service-Büro in der Reichensperger Straße 14a.
URL:https://www.gbt-trier.de/veranstaltungen/service-buero-mariahof-4/2028-06-21/
LOCATION:Maps\, Reichensperger Straße 14 a\, Trier\, 54295\, Germany
CATEGORIES:Öffnungszeiten
END:VEVENT
BEGIN:VEVENT
DTSTART;TZID=Europe/Berlin:20280622T090000
DTEND;TZID=Europe/Berlin:20280622T100000
DTSTAMP:20260425T201211
CREATED:20250204T135250Z
LAST-MODIFIED:20250214T082114Z
UID:10001561-1845277200-1845280800@www.gbt-trier.de
SUMMARY:Service-Büro Im Schammat
DESCRIPTION:Das Service-Büro im Schammat 52 (EG rechts) ist zu den angegebenen Zeiten von einem/r Kundenbetreuer*in besetzt.
URL:https://www.gbt-trier.de/veranstaltungen/service-buero-im-schammat-2/2028-06-22/
LOCATION:Service-Büro Schammat\, Im Schammat 52\, Trier\, Rheinland-Pfalz\, Germany
CATEGORIES:Öffnungszeiten
END:VEVENT
BEGIN:VEVENT
DTSTART;TZID=Europe/Berlin:20280622T090000
DTEND;TZID=Europe/Berlin:20280622T100000
DTSTAMP:20260425T201211
CREATED:20250204T140049Z
LAST-MODIFIED:20250214T082002Z
UID:10002489-1845277200-1845280800@www.gbt-trier.de
SUMMARY:Service-Büro Trier West
DESCRIPTION:Ein/e Kundenbetreuer*in ist persönlich für Sie\, zu den genannten Zeiten\, da. Das Büro befindet sich in der Andreas-Hoevel-Str. 2 im Erdgeschoss (Wohnung 51).
URL:https://www.gbt-trier.de/veranstaltungen/service-buero-trier-west-2/2028-06-22/
LOCATION:Service-Büro West\, Andreas Hoevel Straße 2\, Trier\, Rheinland-Pfalz\, Germany
CATEGORIES:Öffnungszeiten
END:VEVENT
BEGIN:VEVENT
DTSTART;TZID=Europe/Berlin:20280627T090000
DTEND;TZID=Europe/Berlin:20280627T100000
DTSTAMP:20260425T201211
CREATED:20250204T141330Z
LAST-MODIFIED:20250214T081043Z
UID:10003800-1845709200-1845712800@www.gbt-trier.de
SUMMARY:Service-Büro Weidengraben
DESCRIPTION:In dem angegebenen Zeitraum ist ein/e Kundenbetreuer*in persönlich für Sie da. Sie finden das Service-Büro Am Weidengraben 8 im Erdgeschoss (Wohnung 67).
URL:https://www.gbt-trier.de/veranstaltungen/service-buero-weidengraben-2/2028-06-27/
LOCATION:Service-Büro Weidengraben\, Am Weidengraben 8\, Trier\, Rheinland-Pfalz\, Germany
CATEGORIES:Öffnungszeiten
END:VEVENT
BEGIN:VEVENT
DTSTART;TZID=Europe/Berlin:20280627T110000
DTEND;TZID=Europe/Berlin:20280627T120000
DTSTAMP:20260425T201211
CREATED:20260223T080720Z
LAST-MODIFIED:20260223T084017Z
UID:10004607-1845716400-1845720000@www.gbt-trier.de
SUMMARY:Service-Büro Ehrang
DESCRIPTION:Das Service Büro\, in der Florastr. 22 im Erdgeschoss rechts\, ist zu den genannten Zeiten von einem/r Kundenbetreuer*in besetzt.
URL:https://www.gbt-trier.de/veranstaltungen/service-buero-ehrang/2028-06-27/
LOCATION:Service-Büro Ehrang\, Florastraße 22\, Ehrang\, Rheinland-Pfalz\, Germany
CATEGORIES:Öffnungszeiten
END:VEVENT
BEGIN:VEVENT
DTSTART;TZID=Europe/Berlin:20280628T090000
DTEND;TZID=Europe/Berlin:20280628T100000
DTSTAMP:20260425T201211
CREATED:20260223T082304Z
LAST-MODIFIED:20260223T084627Z
UID:10005235-1845795600-1845799200@www.gbt-trier.de
SUMMARY:Service-Büro Mariahof
DESCRIPTION:In dem angegebenen Zeitraum ist ein/e Kundenbetreuer*in persönlich für Sie da. Sie finden das Service-Büro in der Reichensperger Straße 14a.
URL:https://www.gbt-trier.de/veranstaltungen/service-buero-mariahof-4/2028-06-28/
LOCATION:Maps\, Reichensperger Straße 14 a\, Trier\, 54295\, Germany
CATEGORIES:Öffnungszeiten
END:VEVENT
BEGIN:VEVENT
DTSTART;TZID=Europe/Berlin:20280629T090000
DTEND;TZID=Europe/Berlin:20280629T100000
DTSTAMP:20260425T201211
CREATED:20250204T135250Z
LAST-MODIFIED:20250214T082114Z
UID:10001562-1845882000-1845885600@www.gbt-trier.de
SUMMARY:Service-Büro Im Schammat
DESCRIPTION:Das Service-Büro im Schammat 52 (EG rechts) ist zu den angegebenen Zeiten von einem/r Kundenbetreuer*in besetzt.
URL:https://www.gbt-trier.de/veranstaltungen/service-buero-im-schammat-2/2028-06-29/
LOCATION:Service-Büro Schammat\, Im Schammat 52\, Trier\, Rheinland-Pfalz\, Germany
CATEGORIES:Öffnungszeiten
END:VEVENT
BEGIN:VEVENT
DTSTART;TZID=Europe/Berlin:20280629T090000
DTEND;TZID=Europe/Berlin:20280629T100000
DTSTAMP:20260425T201211
CREATED:20250204T140049Z
LAST-MODIFIED:20250214T082002Z
UID:10002490-1845882000-1845885600@www.gbt-trier.de
SUMMARY:Service-Büro Trier West
DESCRIPTION:Ein/e Kundenbetreuer*in ist persönlich für Sie\, zu den genannten Zeiten\, da. Das Büro befindet sich in der Andreas-Hoevel-Str. 2 im Erdgeschoss (Wohnung 51).
URL:https://www.gbt-trier.de/veranstaltungen/service-buero-trier-west-2/2028-06-29/
LOCATION:Service-Büro West\, Andreas Hoevel Straße 2\, Trier\, Rheinland-Pfalz\, Germany
CATEGORIES:Öffnungszeiten
END:VEVENT
END:VCALENDAR