BEGIN:VCALENDAR
VERSION:2.0
PRODID:-//gbt Trier - ECPv6.15.12.2//NONSGML v1.0//EN
CALSCALE:GREGORIAN
METHOD:PUBLISH
X-ORIGINAL-URL:https://www.gbt-trier.de
X-WR-CALDESC:Veranstaltungen für gbt Trier
REFRESH-INTERVAL;VALUE=DURATION:PT1H
X-Robots-Tag:noindex
X-PUBLISHED-TTL:PT1H
BEGIN:VTIMEZONE
TZID:Europe/Berlin
BEGIN:DAYLIGHT
TZOFFSETFROM:+0100
TZOFFSETTO:+0200
TZNAME:CEST
DTSTART:20270328T010000
END:DAYLIGHT
BEGIN:STANDARD
TZOFFSETFROM:+0200
TZOFFSETTO:+0100
TZNAME:CET
DTSTART:20271031T010000
END:STANDARD
BEGIN:DAYLIGHT
TZOFFSETFROM:+0100
TZOFFSETTO:+0200
TZNAME:CEST
DTSTART:20280326T010000
END:DAYLIGHT
BEGIN:STANDARD
TZOFFSETFROM:+0200
TZOFFSETTO:+0100
TZNAME:CET
DTSTART:20281029T010000
END:STANDARD
BEGIN:DAYLIGHT
TZOFFSETFROM:+0100
TZOFFSETTO:+0200
TZNAME:CEST
DTSTART:20290325T010000
END:DAYLIGHT
BEGIN:STANDARD
TZOFFSETFROM:+0200
TZOFFSETTO:+0100
TZNAME:CET
DTSTART:20291028T010000
END:STANDARD
END:VTIMEZONE
BEGIN:VEVENT
DTSTART;TZID=Europe/Berlin:20280801T090000
DTEND;TZID=Europe/Berlin:20280801T100000
DTSTAMP:20260425T232906
CREATED:20250204T141330Z
LAST-MODIFIED:20250214T081043Z
UID:10003805-1848733200-1848736800@www.gbt-trier.de
SUMMARY:Service-Büro Weidengraben
DESCRIPTION:In dem angegebenen Zeitraum ist ein/e Kundenbetreuer*in persönlich für Sie da. Sie finden das Service-Büro Am Weidengraben 8 im Erdgeschoss (Wohnung 67).
URL:https://www.gbt-trier.de/veranstaltungen/service-buero-weidengraben-2/2028-08-01/
LOCATION:Service-Büro Weidengraben\, Am Weidengraben 8\, Trier\, Rheinland-Pfalz\, Germany
CATEGORIES:Öffnungszeiten
END:VEVENT
BEGIN:VEVENT
DTSTART;TZID=Europe/Berlin:20280801T110000
DTEND;TZID=Europe/Berlin:20280801T120000
DTSTAMP:20260425T232906
CREATED:20260223T080720Z
LAST-MODIFIED:20260223T084017Z
UID:10004612-1848740400-1848744000@www.gbt-trier.de
SUMMARY:Service-Büro Ehrang
DESCRIPTION:Das Service Büro\, in der Florastr. 22 im Erdgeschoss rechts\, ist zu den genannten Zeiten von einem/r Kundenbetreuer*in besetzt.
URL:https://www.gbt-trier.de/veranstaltungen/service-buero-ehrang/2028-08-01/
LOCATION:Service-Büro Ehrang\, Florastraße 22\, Ehrang\, Rheinland-Pfalz\, Germany
CATEGORIES:Öffnungszeiten
END:VEVENT
BEGIN:VEVENT
DTSTART;TZID=Europe/Berlin:20280802T090000
DTEND;TZID=Europe/Berlin:20280802T100000
DTSTAMP:20260425T232906
CREATED:20260223T082304Z
LAST-MODIFIED:20260223T084627Z
UID:10005240-1848819600-1848823200@www.gbt-trier.de
SUMMARY:Service-Büro Mariahof
DESCRIPTION:In dem angegebenen Zeitraum ist ein/e Kundenbetreuer*in persönlich für Sie da. Sie finden das Service-Büro in der Reichensperger Straße 14a.
URL:https://www.gbt-trier.de/veranstaltungen/service-buero-mariahof-4/2028-08-02/
LOCATION:Maps\, Reichensperger Straße 14 a\, Trier\, 54295\, Germany
CATEGORIES:Öffnungszeiten
END:VEVENT
BEGIN:VEVENT
DTSTART;TZID=Europe/Berlin:20280803T090000
DTEND;TZID=Europe/Berlin:20280803T100000
DTSTAMP:20260425T232906
CREATED:20250204T135250Z
LAST-MODIFIED:20250214T082114Z
UID:10001567-1848906000-1848909600@www.gbt-trier.de
SUMMARY:Service-Büro Im Schammat
DESCRIPTION:Das Service-Büro im Schammat 52 (EG rechts) ist zu den angegebenen Zeiten von einem/r Kundenbetreuer*in besetzt.
URL:https://www.gbt-trier.de/veranstaltungen/service-buero-im-schammat-2/2028-08-03/
LOCATION:Service-Büro Schammat\, Im Schammat 52\, Trier\, Rheinland-Pfalz\, Germany
CATEGORIES:Öffnungszeiten
END:VEVENT
BEGIN:VEVENT
DTSTART;TZID=Europe/Berlin:20280803T090000
DTEND;TZID=Europe/Berlin:20280803T100000
DTSTAMP:20260425T232906
CREATED:20250204T140049Z
LAST-MODIFIED:20250214T082002Z
UID:10002495-1848906000-1848909600@www.gbt-trier.de
SUMMARY:Service-Büro Trier West
DESCRIPTION:Ein/e Kundenbetreuer*in ist persönlich für Sie\, zu den genannten Zeiten\, da. Das Büro befindet sich in der Andreas-Hoevel-Str. 2 im Erdgeschoss (Wohnung 51).
URL:https://www.gbt-trier.de/veranstaltungen/service-buero-trier-west-2/2028-08-03/
LOCATION:Service-Büro West\, Andreas Hoevel Straße 2\, Trier\, Rheinland-Pfalz\, Germany
CATEGORIES:Öffnungszeiten
END:VEVENT
BEGIN:VEVENT
DTSTART;TZID=Europe/Berlin:20280808T090000
DTEND;TZID=Europe/Berlin:20280808T100000
DTSTAMP:20260425T232906
CREATED:20250204T141330Z
LAST-MODIFIED:20250214T081043Z
UID:10003806-1849338000-1849341600@www.gbt-trier.de
SUMMARY:Service-Büro Weidengraben
DESCRIPTION:In dem angegebenen Zeitraum ist ein/e Kundenbetreuer*in persönlich für Sie da. Sie finden das Service-Büro Am Weidengraben 8 im Erdgeschoss (Wohnung 67).
URL:https://www.gbt-trier.de/veranstaltungen/service-buero-weidengraben-2/2028-08-08/
LOCATION:Service-Büro Weidengraben\, Am Weidengraben 8\, Trier\, Rheinland-Pfalz\, Germany
CATEGORIES:Öffnungszeiten
END:VEVENT
BEGIN:VEVENT
DTSTART;TZID=Europe/Berlin:20280808T110000
DTEND;TZID=Europe/Berlin:20280808T120000
DTSTAMP:20260425T232906
CREATED:20260223T080720Z
LAST-MODIFIED:20260223T084017Z
UID:10004613-1849345200-1849348800@www.gbt-trier.de
SUMMARY:Service-Büro Ehrang
DESCRIPTION:Das Service Büro\, in der Florastr. 22 im Erdgeschoss rechts\, ist zu den genannten Zeiten von einem/r Kundenbetreuer*in besetzt.
URL:https://www.gbt-trier.de/veranstaltungen/service-buero-ehrang/2028-08-08/
LOCATION:Service-Büro Ehrang\, Florastraße 22\, Ehrang\, Rheinland-Pfalz\, Germany
CATEGORIES:Öffnungszeiten
END:VEVENT
BEGIN:VEVENT
DTSTART;TZID=Europe/Berlin:20280809T090000
DTEND;TZID=Europe/Berlin:20280809T100000
DTSTAMP:20260425T232906
CREATED:20260223T082304Z
LAST-MODIFIED:20260223T084627Z
UID:10005241-1849424400-1849428000@www.gbt-trier.de
SUMMARY:Service-Büro Mariahof
DESCRIPTION:In dem angegebenen Zeitraum ist ein/e Kundenbetreuer*in persönlich für Sie da. Sie finden das Service-Büro in der Reichensperger Straße 14a.
URL:https://www.gbt-trier.de/veranstaltungen/service-buero-mariahof-4/2028-08-09/
LOCATION:Maps\, Reichensperger Straße 14 a\, Trier\, 54295\, Germany
CATEGORIES:Öffnungszeiten
END:VEVENT
BEGIN:VEVENT
DTSTART;TZID=Europe/Berlin:20280810T090000
DTEND;TZID=Europe/Berlin:20280810T100000
DTSTAMP:20260425T232906
CREATED:20250204T135250Z
LAST-MODIFIED:20250214T082114Z
UID:10001568-1849510800-1849514400@www.gbt-trier.de
SUMMARY:Service-Büro Im Schammat
DESCRIPTION:Das Service-Büro im Schammat 52 (EG rechts) ist zu den angegebenen Zeiten von einem/r Kundenbetreuer*in besetzt.
URL:https://www.gbt-trier.de/veranstaltungen/service-buero-im-schammat-2/2028-08-10/
LOCATION:Service-Büro Schammat\, Im Schammat 52\, Trier\, Rheinland-Pfalz\, Germany
CATEGORIES:Öffnungszeiten
END:VEVENT
BEGIN:VEVENT
DTSTART;TZID=Europe/Berlin:20280810T090000
DTEND;TZID=Europe/Berlin:20280810T100000
DTSTAMP:20260425T232906
CREATED:20250204T140049Z
LAST-MODIFIED:20250214T082002Z
UID:10002496-1849510800-1849514400@www.gbt-trier.de
SUMMARY:Service-Büro Trier West
DESCRIPTION:Ein/e Kundenbetreuer*in ist persönlich für Sie\, zu den genannten Zeiten\, da. Das Büro befindet sich in der Andreas-Hoevel-Str. 2 im Erdgeschoss (Wohnung 51).
URL:https://www.gbt-trier.de/veranstaltungen/service-buero-trier-west-2/2028-08-10/
LOCATION:Service-Büro West\, Andreas Hoevel Straße 2\, Trier\, Rheinland-Pfalz\, Germany
CATEGORIES:Öffnungszeiten
END:VEVENT
BEGIN:VEVENT
DTSTART;TZID=Europe/Berlin:20280815T090000
DTEND;TZID=Europe/Berlin:20280815T100000
DTSTAMP:20260425T232906
CREATED:20250204T141330Z
LAST-MODIFIED:20250214T081043Z
UID:10003807-1849942800-1849946400@www.gbt-trier.de
SUMMARY:Service-Büro Weidengraben
DESCRIPTION:In dem angegebenen Zeitraum ist ein/e Kundenbetreuer*in persönlich für Sie da. Sie finden das Service-Büro Am Weidengraben 8 im Erdgeschoss (Wohnung 67).
URL:https://www.gbt-trier.de/veranstaltungen/service-buero-weidengraben-2/2028-08-15/
LOCATION:Service-Büro Weidengraben\, Am Weidengraben 8\, Trier\, Rheinland-Pfalz\, Germany
CATEGORIES:Öffnungszeiten
END:VEVENT
BEGIN:VEVENT
DTSTART;TZID=Europe/Berlin:20280815T110000
DTEND;TZID=Europe/Berlin:20280815T120000
DTSTAMP:20260425T232906
CREATED:20260223T080720Z
LAST-MODIFIED:20260223T084017Z
UID:10004614-1849950000-1849953600@www.gbt-trier.de
SUMMARY:Service-Büro Ehrang
DESCRIPTION:Das Service Büro\, in der Florastr. 22 im Erdgeschoss rechts\, ist zu den genannten Zeiten von einem/r Kundenbetreuer*in besetzt.
URL:https://www.gbt-trier.de/veranstaltungen/service-buero-ehrang/2028-08-15/
LOCATION:Service-Büro Ehrang\, Florastraße 22\, Ehrang\, Rheinland-Pfalz\, Germany
CATEGORIES:Öffnungszeiten
END:VEVENT
BEGIN:VEVENT
DTSTART;TZID=Europe/Berlin:20280816T090000
DTEND;TZID=Europe/Berlin:20280816T100000
DTSTAMP:20260425T232906
CREATED:20260223T082304Z
LAST-MODIFIED:20260223T084627Z
UID:10005242-1850029200-1850032800@www.gbt-trier.de
SUMMARY:Service-Büro Mariahof
DESCRIPTION:In dem angegebenen Zeitraum ist ein/e Kundenbetreuer*in persönlich für Sie da. Sie finden das Service-Büro in der Reichensperger Straße 14a.
URL:https://www.gbt-trier.de/veranstaltungen/service-buero-mariahof-4/2028-08-16/
LOCATION:Maps\, Reichensperger Straße 14 a\, Trier\, 54295\, Germany
CATEGORIES:Öffnungszeiten
END:VEVENT
BEGIN:VEVENT
DTSTART;TZID=Europe/Berlin:20280817T090000
DTEND;TZID=Europe/Berlin:20280817T100000
DTSTAMP:20260425T232906
CREATED:20250204T135250Z
LAST-MODIFIED:20250214T082114Z
UID:10001569-1850115600-1850119200@www.gbt-trier.de
SUMMARY:Service-Büro Im Schammat
DESCRIPTION:Das Service-Büro im Schammat 52 (EG rechts) ist zu den angegebenen Zeiten von einem/r Kundenbetreuer*in besetzt.
URL:https://www.gbt-trier.de/veranstaltungen/service-buero-im-schammat-2/2028-08-17/
LOCATION:Service-Büro Schammat\, Im Schammat 52\, Trier\, Rheinland-Pfalz\, Germany
CATEGORIES:Öffnungszeiten
END:VEVENT
BEGIN:VEVENT
DTSTART;TZID=Europe/Berlin:20280817T090000
DTEND;TZID=Europe/Berlin:20280817T100000
DTSTAMP:20260425T232906
CREATED:20250204T140049Z
LAST-MODIFIED:20250214T082002Z
UID:10002497-1850115600-1850119200@www.gbt-trier.de
SUMMARY:Service-Büro Trier West
DESCRIPTION:Ein/e Kundenbetreuer*in ist persönlich für Sie\, zu den genannten Zeiten\, da. Das Büro befindet sich in der Andreas-Hoevel-Str. 2 im Erdgeschoss (Wohnung 51).
URL:https://www.gbt-trier.de/veranstaltungen/service-buero-trier-west-2/2028-08-17/
LOCATION:Service-Büro West\, Andreas Hoevel Straße 2\, Trier\, Rheinland-Pfalz\, Germany
CATEGORIES:Öffnungszeiten
END:VEVENT
BEGIN:VEVENT
DTSTART;TZID=Europe/Berlin:20280822T090000
DTEND;TZID=Europe/Berlin:20280822T100000
DTSTAMP:20260425T232906
CREATED:20250204T141330Z
LAST-MODIFIED:20250214T081043Z
UID:10003808-1850547600-1850551200@www.gbt-trier.de
SUMMARY:Service-Büro Weidengraben
DESCRIPTION:In dem angegebenen Zeitraum ist ein/e Kundenbetreuer*in persönlich für Sie da. Sie finden das Service-Büro Am Weidengraben 8 im Erdgeschoss (Wohnung 67).
URL:https://www.gbt-trier.de/veranstaltungen/service-buero-weidengraben-2/2028-08-22/
LOCATION:Service-Büro Weidengraben\, Am Weidengraben 8\, Trier\, Rheinland-Pfalz\, Germany
CATEGORIES:Öffnungszeiten
END:VEVENT
BEGIN:VEVENT
DTSTART;TZID=Europe/Berlin:20280822T110000
DTEND;TZID=Europe/Berlin:20280822T120000
DTSTAMP:20260425T232906
CREATED:20260223T080720Z
LAST-MODIFIED:20260223T084017Z
UID:10004615-1850554800-1850558400@www.gbt-trier.de
SUMMARY:Service-Büro Ehrang
DESCRIPTION:Das Service Büro\, in der Florastr. 22 im Erdgeschoss rechts\, ist zu den genannten Zeiten von einem/r Kundenbetreuer*in besetzt.
URL:https://www.gbt-trier.de/veranstaltungen/service-buero-ehrang/2028-08-22/
LOCATION:Service-Büro Ehrang\, Florastraße 22\, Ehrang\, Rheinland-Pfalz\, Germany
CATEGORIES:Öffnungszeiten
END:VEVENT
BEGIN:VEVENT
DTSTART;TZID=Europe/Berlin:20280823T090000
DTEND;TZID=Europe/Berlin:20280823T100000
DTSTAMP:20260425T232906
CREATED:20260223T082304Z
LAST-MODIFIED:20260223T084627Z
UID:10005243-1850634000-1850637600@www.gbt-trier.de
SUMMARY:Service-Büro Mariahof
DESCRIPTION:In dem angegebenen Zeitraum ist ein/e Kundenbetreuer*in persönlich für Sie da. Sie finden das Service-Büro in der Reichensperger Straße 14a.
URL:https://www.gbt-trier.de/veranstaltungen/service-buero-mariahof-4/2028-08-23/
LOCATION:Maps\, Reichensperger Straße 14 a\, Trier\, 54295\, Germany
CATEGORIES:Öffnungszeiten
END:VEVENT
BEGIN:VEVENT
DTSTART;TZID=Europe/Berlin:20280824T090000
DTEND;TZID=Europe/Berlin:20280824T100000
DTSTAMP:20260425T232906
CREATED:20250204T135250Z
LAST-MODIFIED:20250214T082114Z
UID:10001570-1850720400-1850724000@www.gbt-trier.de
SUMMARY:Service-Büro Im Schammat
DESCRIPTION:Das Service-Büro im Schammat 52 (EG rechts) ist zu den angegebenen Zeiten von einem/r Kundenbetreuer*in besetzt.
URL:https://www.gbt-trier.de/veranstaltungen/service-buero-im-schammat-2/2028-08-24/
LOCATION:Service-Büro Schammat\, Im Schammat 52\, Trier\, Rheinland-Pfalz\, Germany
CATEGORIES:Öffnungszeiten
END:VEVENT
BEGIN:VEVENT
DTSTART;TZID=Europe/Berlin:20280824T090000
DTEND;TZID=Europe/Berlin:20280824T100000
DTSTAMP:20260425T232906
CREATED:20250204T140049Z
LAST-MODIFIED:20250214T082002Z
UID:10002498-1850720400-1850724000@www.gbt-trier.de
SUMMARY:Service-Büro Trier West
DESCRIPTION:Ein/e Kundenbetreuer*in ist persönlich für Sie\, zu den genannten Zeiten\, da. Das Büro befindet sich in der Andreas-Hoevel-Str. 2 im Erdgeschoss (Wohnung 51).
URL:https://www.gbt-trier.de/veranstaltungen/service-buero-trier-west-2/2028-08-24/
LOCATION:Service-Büro West\, Andreas Hoevel Straße 2\, Trier\, Rheinland-Pfalz\, Germany
CATEGORIES:Öffnungszeiten
END:VEVENT
BEGIN:VEVENT
DTSTART;TZID=Europe/Berlin:20280829T090000
DTEND;TZID=Europe/Berlin:20280829T100000
DTSTAMP:20260425T232906
CREATED:20250204T141330Z
LAST-MODIFIED:20250214T081043Z
UID:10003809-1851152400-1851156000@www.gbt-trier.de
SUMMARY:Service-Büro Weidengraben
DESCRIPTION:In dem angegebenen Zeitraum ist ein/e Kundenbetreuer*in persönlich für Sie da. Sie finden das Service-Büro Am Weidengraben 8 im Erdgeschoss (Wohnung 67).
URL:https://www.gbt-trier.de/veranstaltungen/service-buero-weidengraben-2/2028-08-29/
LOCATION:Service-Büro Weidengraben\, Am Weidengraben 8\, Trier\, Rheinland-Pfalz\, Germany
CATEGORIES:Öffnungszeiten
END:VEVENT
BEGIN:VEVENT
DTSTART;TZID=Europe/Berlin:20280829T110000
DTEND;TZID=Europe/Berlin:20280829T120000
DTSTAMP:20260425T232906
CREATED:20260223T080720Z
LAST-MODIFIED:20260223T084017Z
UID:10004616-1851159600-1851163200@www.gbt-trier.de
SUMMARY:Service-Büro Ehrang
DESCRIPTION:Das Service Büro\, in der Florastr. 22 im Erdgeschoss rechts\, ist zu den genannten Zeiten von einem/r Kundenbetreuer*in besetzt.
URL:https://www.gbt-trier.de/veranstaltungen/service-buero-ehrang/2028-08-29/
LOCATION:Service-Büro Ehrang\, Florastraße 22\, Ehrang\, Rheinland-Pfalz\, Germany
CATEGORIES:Öffnungszeiten
END:VEVENT
BEGIN:VEVENT
DTSTART;TZID=Europe/Berlin:20280830T090000
DTEND;TZID=Europe/Berlin:20280830T100000
DTSTAMP:20260425T232906
CREATED:20260223T082304Z
LAST-MODIFIED:20260223T084627Z
UID:10005244-1851238800-1851242400@www.gbt-trier.de
SUMMARY:Service-Büro Mariahof
DESCRIPTION:In dem angegebenen Zeitraum ist ein/e Kundenbetreuer*in persönlich für Sie da. Sie finden das Service-Büro in der Reichensperger Straße 14a.
URL:https://www.gbt-trier.de/veranstaltungen/service-buero-mariahof-4/2028-08-30/
LOCATION:Maps\, Reichensperger Straße 14 a\, Trier\, 54295\, Germany
CATEGORIES:Öffnungszeiten
END:VEVENT
BEGIN:VEVENT
DTSTART;TZID=Europe/Berlin:20280831T090000
DTEND;TZID=Europe/Berlin:20280831T100000
DTSTAMP:20260425T232906
CREATED:20250204T135250Z
LAST-MODIFIED:20250214T082114Z
UID:10001571-1851325200-1851328800@www.gbt-trier.de
SUMMARY:Service-Büro Im Schammat
DESCRIPTION:Das Service-Büro im Schammat 52 (EG rechts) ist zu den angegebenen Zeiten von einem/r Kundenbetreuer*in besetzt.
URL:https://www.gbt-trier.de/veranstaltungen/service-buero-im-schammat-2/2028-08-31/
LOCATION:Service-Büro Schammat\, Im Schammat 52\, Trier\, Rheinland-Pfalz\, Germany
CATEGORIES:Öffnungszeiten
END:VEVENT
BEGIN:VEVENT
DTSTART;TZID=Europe/Berlin:20280831T090000
DTEND;TZID=Europe/Berlin:20280831T100000
DTSTAMP:20260425T232906
CREATED:20250204T140049Z
LAST-MODIFIED:20250214T082002Z
UID:10002499-1851325200-1851328800@www.gbt-trier.de
SUMMARY:Service-Büro Trier West
DESCRIPTION:Ein/e Kundenbetreuer*in ist persönlich für Sie\, zu den genannten Zeiten\, da. Das Büro befindet sich in der Andreas-Hoevel-Str. 2 im Erdgeschoss (Wohnung 51).
URL:https://www.gbt-trier.de/veranstaltungen/service-buero-trier-west-2/2028-08-31/
LOCATION:Service-Büro West\, Andreas Hoevel Straße 2\, Trier\, Rheinland-Pfalz\, Germany
CATEGORIES:Öffnungszeiten
END:VEVENT
END:VCALENDAR