BEGIN:VCALENDAR
VERSION:2.0
PRODID:-//gbt Trier - ECPv6.15.12.2//NONSGML v1.0//EN
CALSCALE:GREGORIAN
METHOD:PUBLISH
X-WR-CALNAME:gbt Trier
X-ORIGINAL-URL:https://www.gbt-trier.de
X-WR-CALDESC:Veranstaltungen für gbt Trier
REFRESH-INTERVAL;VALUE=DURATION:PT1H
X-Robots-Tag:noindex
X-PUBLISHED-TTL:PT1H
BEGIN:VTIMEZONE
TZID:Europe/Berlin
BEGIN:DAYLIGHT
TZOFFSETFROM:+0100
TZOFFSETTO:+0200
TZNAME:CEST
DTSTART:20270328T010000
END:DAYLIGHT
BEGIN:STANDARD
TZOFFSETFROM:+0200
TZOFFSETTO:+0100
TZNAME:CET
DTSTART:20271031T010000
END:STANDARD
BEGIN:DAYLIGHT
TZOFFSETFROM:+0100
TZOFFSETTO:+0200
TZNAME:CEST
DTSTART:20280326T010000
END:DAYLIGHT
BEGIN:STANDARD
TZOFFSETFROM:+0200
TZOFFSETTO:+0100
TZNAME:CET
DTSTART:20281029T010000
END:STANDARD
BEGIN:DAYLIGHT
TZOFFSETFROM:+0100
TZOFFSETTO:+0200
TZNAME:CEST
DTSTART:20290325T010000
END:DAYLIGHT
BEGIN:STANDARD
TZOFFSETFROM:+0200
TZOFFSETTO:+0100
TZNAME:CET
DTSTART:20291028T010000
END:STANDARD
END:VTIMEZONE
BEGIN:VEVENT
DTSTART;TZID=Europe/Berlin:20280905T090000
DTEND;TZID=Europe/Berlin:20280905T100000
DTSTAMP:20260426T011352
CREATED:20250204T141330Z
LAST-MODIFIED:20250214T081043Z
UID:10003810-1851757200-1851760800@www.gbt-trier.de
SUMMARY:Service-Büro Weidengraben
DESCRIPTION:In dem angegebenen Zeitraum ist ein/e Kundenbetreuer*in persönlich für Sie da. Sie finden das Service-Büro Am Weidengraben 8 im Erdgeschoss (Wohnung 67).
URL:https://www.gbt-trier.de/veranstaltungen/service-buero-weidengraben-2/2028-09-05/
LOCATION:Service-Büro Weidengraben\, Am Weidengraben 8\, Trier\, Rheinland-Pfalz\, Germany
CATEGORIES:Öffnungszeiten
END:VEVENT
BEGIN:VEVENT
DTSTART;TZID=Europe/Berlin:20280905T110000
DTEND;TZID=Europe/Berlin:20280905T120000
DTSTAMP:20260426T011352
CREATED:20260223T080720Z
LAST-MODIFIED:20260223T084017Z
UID:10004617-1851764400-1851768000@www.gbt-trier.de
SUMMARY:Service-Büro Ehrang
DESCRIPTION:Das Service Büro\, in der Florastr. 22 im Erdgeschoss rechts\, ist zu den genannten Zeiten von einem/r Kundenbetreuer*in besetzt.
URL:https://www.gbt-trier.de/veranstaltungen/service-buero-ehrang/2028-09-05/
LOCATION:Service-Büro Ehrang\, Florastraße 22\, Ehrang\, Rheinland-Pfalz\, Germany
CATEGORIES:Öffnungszeiten
END:VEVENT
BEGIN:VEVENT
DTSTART;TZID=Europe/Berlin:20280906T090000
DTEND;TZID=Europe/Berlin:20280906T100000
DTSTAMP:20260426T011352
CREATED:20260223T082304Z
LAST-MODIFIED:20260223T084627Z
UID:10005245-1851843600-1851847200@www.gbt-trier.de
SUMMARY:Service-Büro Mariahof
DESCRIPTION:In dem angegebenen Zeitraum ist ein/e Kundenbetreuer*in persönlich für Sie da. Sie finden das Service-Büro in der Reichensperger Straße 14a.
URL:https://www.gbt-trier.de/veranstaltungen/service-buero-mariahof-4/2028-09-06/
LOCATION:Maps\, Reichensperger Straße 14 a\, Trier\, 54295\, Germany
CATEGORIES:Öffnungszeiten
END:VEVENT
BEGIN:VEVENT
DTSTART;TZID=Europe/Berlin:20280907T090000
DTEND;TZID=Europe/Berlin:20280907T100000
DTSTAMP:20260426T011352
CREATED:20250204T135250Z
LAST-MODIFIED:20250214T082114Z
UID:10001572-1851930000-1851933600@www.gbt-trier.de
SUMMARY:Service-Büro Im Schammat
DESCRIPTION:Das Service-Büro im Schammat 52 (EG rechts) ist zu den angegebenen Zeiten von einem/r Kundenbetreuer*in besetzt.
URL:https://www.gbt-trier.de/veranstaltungen/service-buero-im-schammat-2/2028-09-07/
LOCATION:Service-Büro Schammat\, Im Schammat 52\, Trier\, Rheinland-Pfalz\, Germany
CATEGORIES:Öffnungszeiten
END:VEVENT
BEGIN:VEVENT
DTSTART;TZID=Europe/Berlin:20280907T090000
DTEND;TZID=Europe/Berlin:20280907T100000
DTSTAMP:20260426T011352
CREATED:20250204T140049Z
LAST-MODIFIED:20250214T082002Z
UID:10002500-1851930000-1851933600@www.gbt-trier.de
SUMMARY:Service-Büro Trier West
DESCRIPTION:Ein/e Kundenbetreuer*in ist persönlich für Sie\, zu den genannten Zeiten\, da. Das Büro befindet sich in der Andreas-Hoevel-Str. 2 im Erdgeschoss (Wohnung 51).
URL:https://www.gbt-trier.de/veranstaltungen/service-buero-trier-west-2/2028-09-07/
LOCATION:Service-Büro West\, Andreas Hoevel Straße 2\, Trier\, Rheinland-Pfalz\, Germany
CATEGORIES:Öffnungszeiten
END:VEVENT
BEGIN:VEVENT
DTSTART;TZID=Europe/Berlin:20280912T090000
DTEND;TZID=Europe/Berlin:20280912T100000
DTSTAMP:20260426T011352
CREATED:20250204T141330Z
LAST-MODIFIED:20250214T081043Z
UID:10003811-1852362000-1852365600@www.gbt-trier.de
SUMMARY:Service-Büro Weidengraben
DESCRIPTION:In dem angegebenen Zeitraum ist ein/e Kundenbetreuer*in persönlich für Sie da. Sie finden das Service-Büro Am Weidengraben 8 im Erdgeschoss (Wohnung 67).
URL:https://www.gbt-trier.de/veranstaltungen/service-buero-weidengraben-2/2028-09-12/
LOCATION:Service-Büro Weidengraben\, Am Weidengraben 8\, Trier\, Rheinland-Pfalz\, Germany
CATEGORIES:Öffnungszeiten
END:VEVENT
BEGIN:VEVENT
DTSTART;TZID=Europe/Berlin:20280912T110000
DTEND;TZID=Europe/Berlin:20280912T120000
DTSTAMP:20260426T011352
CREATED:20260223T080720Z
LAST-MODIFIED:20260223T084017Z
UID:10004618-1852369200-1852372800@www.gbt-trier.de
SUMMARY:Service-Büro Ehrang
DESCRIPTION:Das Service Büro\, in der Florastr. 22 im Erdgeschoss rechts\, ist zu den genannten Zeiten von einem/r Kundenbetreuer*in besetzt.
URL:https://www.gbt-trier.de/veranstaltungen/service-buero-ehrang/2028-09-12/
LOCATION:Service-Büro Ehrang\, Florastraße 22\, Ehrang\, Rheinland-Pfalz\, Germany
CATEGORIES:Öffnungszeiten
END:VEVENT
BEGIN:VEVENT
DTSTART;TZID=Europe/Berlin:20280913T090000
DTEND;TZID=Europe/Berlin:20280913T100000
DTSTAMP:20260426T011352
CREATED:20260223T082304Z
LAST-MODIFIED:20260223T084627Z
UID:10005246-1852448400-1852452000@www.gbt-trier.de
SUMMARY:Service-Büro Mariahof
DESCRIPTION:In dem angegebenen Zeitraum ist ein/e Kundenbetreuer*in persönlich für Sie da. Sie finden das Service-Büro in der Reichensperger Straße 14a.
URL:https://www.gbt-trier.de/veranstaltungen/service-buero-mariahof-4/2028-09-13/
LOCATION:Maps\, Reichensperger Straße 14 a\, Trier\, 54295\, Germany
CATEGORIES:Öffnungszeiten
END:VEVENT
BEGIN:VEVENT
DTSTART;TZID=Europe/Berlin:20280914T090000
DTEND;TZID=Europe/Berlin:20280914T100000
DTSTAMP:20260426T011352
CREATED:20250204T135250Z
LAST-MODIFIED:20250214T082114Z
UID:10001573-1852534800-1852538400@www.gbt-trier.de
SUMMARY:Service-Büro Im Schammat
DESCRIPTION:Das Service-Büro im Schammat 52 (EG rechts) ist zu den angegebenen Zeiten von einem/r Kundenbetreuer*in besetzt.
URL:https://www.gbt-trier.de/veranstaltungen/service-buero-im-schammat-2/2028-09-14/
LOCATION:Service-Büro Schammat\, Im Schammat 52\, Trier\, Rheinland-Pfalz\, Germany
CATEGORIES:Öffnungszeiten
END:VEVENT
BEGIN:VEVENT
DTSTART;TZID=Europe/Berlin:20280914T090000
DTEND;TZID=Europe/Berlin:20280914T100000
DTSTAMP:20260426T011353
CREATED:20250204T140049Z
LAST-MODIFIED:20250214T082002Z
UID:10002501-1852534800-1852538400@www.gbt-trier.de
SUMMARY:Service-Büro Trier West
DESCRIPTION:Ein/e Kundenbetreuer*in ist persönlich für Sie\, zu den genannten Zeiten\, da. Das Büro befindet sich in der Andreas-Hoevel-Str. 2 im Erdgeschoss (Wohnung 51).
URL:https://www.gbt-trier.de/veranstaltungen/service-buero-trier-west-2/2028-09-14/
LOCATION:Service-Büro West\, Andreas Hoevel Straße 2\, Trier\, Rheinland-Pfalz\, Germany
CATEGORIES:Öffnungszeiten
END:VEVENT
BEGIN:VEVENT
DTSTART;TZID=Europe/Berlin:20280919T090000
DTEND;TZID=Europe/Berlin:20280919T100000
DTSTAMP:20260426T011353
CREATED:20250204T141330Z
LAST-MODIFIED:20250214T081043Z
UID:10003812-1852966800-1852970400@www.gbt-trier.de
SUMMARY:Service-Büro Weidengraben
DESCRIPTION:In dem angegebenen Zeitraum ist ein/e Kundenbetreuer*in persönlich für Sie da. Sie finden das Service-Büro Am Weidengraben 8 im Erdgeschoss (Wohnung 67).
URL:https://www.gbt-trier.de/veranstaltungen/service-buero-weidengraben-2/2028-09-19/
LOCATION:Service-Büro Weidengraben\, Am Weidengraben 8\, Trier\, Rheinland-Pfalz\, Germany
CATEGORIES:Öffnungszeiten
END:VEVENT
BEGIN:VEVENT
DTSTART;TZID=Europe/Berlin:20280919T110000
DTEND;TZID=Europe/Berlin:20280919T120000
DTSTAMP:20260426T011353
CREATED:20260223T080720Z
LAST-MODIFIED:20260223T084017Z
UID:10004619-1852974000-1852977600@www.gbt-trier.de
SUMMARY:Service-Büro Ehrang
DESCRIPTION:Das Service Büro\, in der Florastr. 22 im Erdgeschoss rechts\, ist zu den genannten Zeiten von einem/r Kundenbetreuer*in besetzt.
URL:https://www.gbt-trier.de/veranstaltungen/service-buero-ehrang/2028-09-19/
LOCATION:Service-Büro Ehrang\, Florastraße 22\, Ehrang\, Rheinland-Pfalz\, Germany
CATEGORIES:Öffnungszeiten
END:VEVENT
BEGIN:VEVENT
DTSTART;TZID=Europe/Berlin:20280920T090000
DTEND;TZID=Europe/Berlin:20280920T100000
DTSTAMP:20260426T011353
CREATED:20260223T082304Z
LAST-MODIFIED:20260223T084627Z
UID:10005247-1853053200-1853056800@www.gbt-trier.de
SUMMARY:Service-Büro Mariahof
DESCRIPTION:In dem angegebenen Zeitraum ist ein/e Kundenbetreuer*in persönlich für Sie da. Sie finden das Service-Büro in der Reichensperger Straße 14a.
URL:https://www.gbt-trier.de/veranstaltungen/service-buero-mariahof-4/2028-09-20/
LOCATION:Maps\, Reichensperger Straße 14 a\, Trier\, 54295\, Germany
CATEGORIES:Öffnungszeiten
END:VEVENT
BEGIN:VEVENT
DTSTART;TZID=Europe/Berlin:20280921T090000
DTEND;TZID=Europe/Berlin:20280921T100000
DTSTAMP:20260426T011353
CREATED:20250204T135250Z
LAST-MODIFIED:20250214T082114Z
UID:10001574-1853139600-1853143200@www.gbt-trier.de
SUMMARY:Service-Büro Im Schammat
DESCRIPTION:Das Service-Büro im Schammat 52 (EG rechts) ist zu den angegebenen Zeiten von einem/r Kundenbetreuer*in besetzt.
URL:https://www.gbt-trier.de/veranstaltungen/service-buero-im-schammat-2/2028-09-21/
LOCATION:Service-Büro Schammat\, Im Schammat 52\, Trier\, Rheinland-Pfalz\, Germany
CATEGORIES:Öffnungszeiten
END:VEVENT
BEGIN:VEVENT
DTSTART;TZID=Europe/Berlin:20280921T090000
DTEND;TZID=Europe/Berlin:20280921T100000
DTSTAMP:20260426T011353
CREATED:20250204T140049Z
LAST-MODIFIED:20250214T082002Z
UID:10002502-1853139600-1853143200@www.gbt-trier.de
SUMMARY:Service-Büro Trier West
DESCRIPTION:Ein/e Kundenbetreuer*in ist persönlich für Sie\, zu den genannten Zeiten\, da. Das Büro befindet sich in der Andreas-Hoevel-Str. 2 im Erdgeschoss (Wohnung 51).
URL:https://www.gbt-trier.de/veranstaltungen/service-buero-trier-west-2/2028-09-21/
LOCATION:Service-Büro West\, Andreas Hoevel Straße 2\, Trier\, Rheinland-Pfalz\, Germany
CATEGORIES:Öffnungszeiten
END:VEVENT
BEGIN:VEVENT
DTSTART;TZID=Europe/Berlin:20280926T090000
DTEND;TZID=Europe/Berlin:20280926T100000
DTSTAMP:20260426T011353
CREATED:20250204T141330Z
LAST-MODIFIED:20250214T081043Z
UID:10003813-1853571600-1853575200@www.gbt-trier.de
SUMMARY:Service-Büro Weidengraben
DESCRIPTION:In dem angegebenen Zeitraum ist ein/e Kundenbetreuer*in persönlich für Sie da. Sie finden das Service-Büro Am Weidengraben 8 im Erdgeschoss (Wohnung 67).
URL:https://www.gbt-trier.de/veranstaltungen/service-buero-weidengraben-2/2028-09-26/
LOCATION:Service-Büro Weidengraben\, Am Weidengraben 8\, Trier\, Rheinland-Pfalz\, Germany
CATEGORIES:Öffnungszeiten
END:VEVENT
BEGIN:VEVENT
DTSTART;TZID=Europe/Berlin:20280926T110000
DTEND;TZID=Europe/Berlin:20280926T120000
DTSTAMP:20260426T011353
CREATED:20260223T080720Z
LAST-MODIFIED:20260223T084017Z
UID:10004620-1853578800-1853582400@www.gbt-trier.de
SUMMARY:Service-Büro Ehrang
DESCRIPTION:Das Service Büro\, in der Florastr. 22 im Erdgeschoss rechts\, ist zu den genannten Zeiten von einem/r Kundenbetreuer*in besetzt.
URL:https://www.gbt-trier.de/veranstaltungen/service-buero-ehrang/2028-09-26/
LOCATION:Service-Büro Ehrang\, Florastraße 22\, Ehrang\, Rheinland-Pfalz\, Germany
CATEGORIES:Öffnungszeiten
END:VEVENT
BEGIN:VEVENT
DTSTART;TZID=Europe/Berlin:20280927T090000
DTEND;TZID=Europe/Berlin:20280927T100000
DTSTAMP:20260426T011353
CREATED:20260223T082304Z
LAST-MODIFIED:20260223T084627Z
UID:10005248-1853658000-1853661600@www.gbt-trier.de
SUMMARY:Service-Büro Mariahof
DESCRIPTION:In dem angegebenen Zeitraum ist ein/e Kundenbetreuer*in persönlich für Sie da. Sie finden das Service-Büro in der Reichensperger Straße 14a.
URL:https://www.gbt-trier.de/veranstaltungen/service-buero-mariahof-4/2028-09-27/
LOCATION:Maps\, Reichensperger Straße 14 a\, Trier\, 54295\, Germany
CATEGORIES:Öffnungszeiten
END:VEVENT
BEGIN:VEVENT
DTSTART;TZID=Europe/Berlin:20280928T090000
DTEND;TZID=Europe/Berlin:20280928T100000
DTSTAMP:20260426T011353
CREATED:20250204T135250Z
LAST-MODIFIED:20250214T082114Z
UID:10001575-1853744400-1853748000@www.gbt-trier.de
SUMMARY:Service-Büro Im Schammat
DESCRIPTION:Das Service-Büro im Schammat 52 (EG rechts) ist zu den angegebenen Zeiten von einem/r Kundenbetreuer*in besetzt.
URL:https://www.gbt-trier.de/veranstaltungen/service-buero-im-schammat-2/2028-09-28/
LOCATION:Service-Büro Schammat\, Im Schammat 52\, Trier\, Rheinland-Pfalz\, Germany
CATEGORIES:Öffnungszeiten
END:VEVENT
BEGIN:VEVENT
DTSTART;TZID=Europe/Berlin:20280928T090000
DTEND;TZID=Europe/Berlin:20280928T100000
DTSTAMP:20260426T011353
CREATED:20250204T140049Z
LAST-MODIFIED:20250214T082002Z
UID:10002503-1853744400-1853748000@www.gbt-trier.de
SUMMARY:Service-Büro Trier West
DESCRIPTION:Ein/e Kundenbetreuer*in ist persönlich für Sie\, zu den genannten Zeiten\, da. Das Büro befindet sich in der Andreas-Hoevel-Str. 2 im Erdgeschoss (Wohnung 51).
URL:https://www.gbt-trier.de/veranstaltungen/service-buero-trier-west-2/2028-09-28/
LOCATION:Service-Büro West\, Andreas Hoevel Straße 2\, Trier\, Rheinland-Pfalz\, Germany
CATEGORIES:Öffnungszeiten
END:VEVENT
END:VCALENDAR