BEGIN:VCALENDAR
VERSION:2.0
PRODID:-//gbt Trier - ECPv6.15.12.2//NONSGML v1.0//EN
CALSCALE:GREGORIAN
METHOD:PUBLISH
X-WR-CALNAME:gbt Trier
X-ORIGINAL-URL:https://www.gbt-trier.de
X-WR-CALDESC:Veranstaltungen für gbt Trier
REFRESH-INTERVAL;VALUE=DURATION:PT1H
X-Robots-Tag:noindex
X-PUBLISHED-TTL:PT1H
BEGIN:VTIMEZONE
TZID:Europe/Berlin
BEGIN:DAYLIGHT
TZOFFSETFROM:+0100
TZOFFSETTO:+0200
TZNAME:CEST
DTSTART:20270328T010000
END:DAYLIGHT
BEGIN:STANDARD
TZOFFSETFROM:+0200
TZOFFSETTO:+0100
TZNAME:CET
DTSTART:20271031T010000
END:STANDARD
BEGIN:DAYLIGHT
TZOFFSETFROM:+0100
TZOFFSETTO:+0200
TZNAME:CEST
DTSTART:20280326T010000
END:DAYLIGHT
BEGIN:STANDARD
TZOFFSETFROM:+0200
TZOFFSETTO:+0100
TZNAME:CET
DTSTART:20281029T010000
END:STANDARD
BEGIN:DAYLIGHT
TZOFFSETFROM:+0100
TZOFFSETTO:+0200
TZNAME:CEST
DTSTART:20290325T010000
END:DAYLIGHT
BEGIN:STANDARD
TZOFFSETFROM:+0200
TZOFFSETTO:+0100
TZNAME:CET
DTSTART:20291028T010000
END:STANDARD
END:VTIMEZONE
BEGIN:VEVENT
DTSTART;TZID=Europe/Berlin:20281101T090000
DTEND;TZID=Europe/Berlin:20281101T100000
DTSTAMP:20260426T045904
CREATED:20260223T082304Z
LAST-MODIFIED:20260223T084627Z
UID:10005253-1856682000-1856685600@www.gbt-trier.de
SUMMARY:Service-Büro Mariahof
DESCRIPTION:In dem angegebenen Zeitraum ist ein/e Kundenbetreuer*in persönlich für Sie da. Sie finden das Service-Büro in der Reichensperger Straße 14a.
URL:https://www.gbt-trier.de/veranstaltungen/service-buero-mariahof-4/2028-11-01/
LOCATION:Maps\, Reichensperger Straße 14 a\, Trier\, 54295\, Germany
CATEGORIES:Öffnungszeiten
END:VEVENT
BEGIN:VEVENT
DTSTART;TZID=Europe/Berlin:20281102T090000
DTEND;TZID=Europe/Berlin:20281102T100000
DTSTAMP:20260426T045904
CREATED:20250204T135250Z
LAST-MODIFIED:20250214T082114Z
UID:10001580-1856768400-1856772000@www.gbt-trier.de
SUMMARY:Service-Büro Im Schammat
DESCRIPTION:Das Service-Büro im Schammat 52 (EG rechts) ist zu den angegebenen Zeiten von einem/r Kundenbetreuer*in besetzt.
URL:https://www.gbt-trier.de/veranstaltungen/service-buero-im-schammat-2/2028-11-02/
LOCATION:Service-Büro Schammat\, Im Schammat 52\, Trier\, Rheinland-Pfalz\, Germany
CATEGORIES:Öffnungszeiten
END:VEVENT
BEGIN:VEVENT
DTSTART;TZID=Europe/Berlin:20281102T090000
DTEND;TZID=Europe/Berlin:20281102T100000
DTSTAMP:20260426T045904
CREATED:20250204T140049Z
LAST-MODIFIED:20250214T082002Z
UID:10002508-1856768400-1856772000@www.gbt-trier.de
SUMMARY:Service-Büro Trier West
DESCRIPTION:Ein/e Kundenbetreuer*in ist persönlich für Sie\, zu den genannten Zeiten\, da. Das Büro befindet sich in der Andreas-Hoevel-Str. 2 im Erdgeschoss (Wohnung 51).
URL:https://www.gbt-trier.de/veranstaltungen/service-buero-trier-west-2/2028-11-02/
LOCATION:Service-Büro West\, Andreas Hoevel Straße 2\, Trier\, Rheinland-Pfalz\, Germany
CATEGORIES:Öffnungszeiten
END:VEVENT
BEGIN:VEVENT
DTSTART;TZID=Europe/Berlin:20281107T090000
DTEND;TZID=Europe/Berlin:20281107T100000
DTSTAMP:20260426T045904
CREATED:20250204T141330Z
LAST-MODIFIED:20250214T081043Z
UID:10003819-1857200400-1857204000@www.gbt-trier.de
SUMMARY:Service-Büro Weidengraben
DESCRIPTION:In dem angegebenen Zeitraum ist ein/e Kundenbetreuer*in persönlich für Sie da. Sie finden das Service-Büro Am Weidengraben 8 im Erdgeschoss (Wohnung 67).
URL:https://www.gbt-trier.de/veranstaltungen/service-buero-weidengraben-2/2028-11-07/
LOCATION:Service-Büro Weidengraben\, Am Weidengraben 8\, Trier\, Rheinland-Pfalz\, Germany
CATEGORIES:Öffnungszeiten
END:VEVENT
BEGIN:VEVENT
DTSTART;TZID=Europe/Berlin:20281107T110000
DTEND;TZID=Europe/Berlin:20281107T120000
DTSTAMP:20260426T045904
CREATED:20260223T080720Z
LAST-MODIFIED:20260223T084017Z
UID:10004626-1857207600-1857211200@www.gbt-trier.de
SUMMARY:Service-Büro Ehrang
DESCRIPTION:Das Service Büro\, in der Florastr. 22 im Erdgeschoss rechts\, ist zu den genannten Zeiten von einem/r Kundenbetreuer*in besetzt.
URL:https://www.gbt-trier.de/veranstaltungen/service-buero-ehrang/2028-11-07/
LOCATION:Service-Büro Ehrang\, Florastraße 22\, Ehrang\, Rheinland-Pfalz\, Germany
CATEGORIES:Öffnungszeiten
END:VEVENT
BEGIN:VEVENT
DTSTART;TZID=Europe/Berlin:20281108T090000
DTEND;TZID=Europe/Berlin:20281108T100000
DTSTAMP:20260426T045904
CREATED:20260223T082304Z
LAST-MODIFIED:20260223T084627Z
UID:10005254-1857286800-1857290400@www.gbt-trier.de
SUMMARY:Service-Büro Mariahof
DESCRIPTION:In dem angegebenen Zeitraum ist ein/e Kundenbetreuer*in persönlich für Sie da. Sie finden das Service-Büro in der Reichensperger Straße 14a.
URL:https://www.gbt-trier.de/veranstaltungen/service-buero-mariahof-4/2028-11-08/
LOCATION:Maps\, Reichensperger Straße 14 a\, Trier\, 54295\, Germany
CATEGORIES:Öffnungszeiten
END:VEVENT
BEGIN:VEVENT
DTSTART;TZID=Europe/Berlin:20281109T090000
DTEND;TZID=Europe/Berlin:20281109T100000
DTSTAMP:20260426T045904
CREATED:20250204T135250Z
LAST-MODIFIED:20250214T082114Z
UID:10001581-1857373200-1857376800@www.gbt-trier.de
SUMMARY:Service-Büro Im Schammat
DESCRIPTION:Das Service-Büro im Schammat 52 (EG rechts) ist zu den angegebenen Zeiten von einem/r Kundenbetreuer*in besetzt.
URL:https://www.gbt-trier.de/veranstaltungen/service-buero-im-schammat-2/2028-11-09/
LOCATION:Service-Büro Schammat\, Im Schammat 52\, Trier\, Rheinland-Pfalz\, Germany
CATEGORIES:Öffnungszeiten
END:VEVENT
BEGIN:VEVENT
DTSTART;TZID=Europe/Berlin:20281109T090000
DTEND;TZID=Europe/Berlin:20281109T100000
DTSTAMP:20260426T045904
CREATED:20250204T140049Z
LAST-MODIFIED:20250214T082002Z
UID:10002509-1857373200-1857376800@www.gbt-trier.de
SUMMARY:Service-Büro Trier West
DESCRIPTION:Ein/e Kundenbetreuer*in ist persönlich für Sie\, zu den genannten Zeiten\, da. Das Büro befindet sich in der Andreas-Hoevel-Str. 2 im Erdgeschoss (Wohnung 51).
URL:https://www.gbt-trier.de/veranstaltungen/service-buero-trier-west-2/2028-11-09/
LOCATION:Service-Büro West\, Andreas Hoevel Straße 2\, Trier\, Rheinland-Pfalz\, Germany
CATEGORIES:Öffnungszeiten
END:VEVENT
BEGIN:VEVENT
DTSTART;TZID=Europe/Berlin:20281114T090000
DTEND;TZID=Europe/Berlin:20281114T100000
DTSTAMP:20260426T045905
CREATED:20250204T141330Z
LAST-MODIFIED:20250214T081043Z
UID:10003820-1857805200-1857808800@www.gbt-trier.de
SUMMARY:Service-Büro Weidengraben
DESCRIPTION:In dem angegebenen Zeitraum ist ein/e Kundenbetreuer*in persönlich für Sie da. Sie finden das Service-Büro Am Weidengraben 8 im Erdgeschoss (Wohnung 67).
URL:https://www.gbt-trier.de/veranstaltungen/service-buero-weidengraben-2/2028-11-14/
LOCATION:Service-Büro Weidengraben\, Am Weidengraben 8\, Trier\, Rheinland-Pfalz\, Germany
CATEGORIES:Öffnungszeiten
END:VEVENT
BEGIN:VEVENT
DTSTART;TZID=Europe/Berlin:20281114T110000
DTEND;TZID=Europe/Berlin:20281114T120000
DTSTAMP:20260426T045905
CREATED:20260223T080720Z
LAST-MODIFIED:20260223T084017Z
UID:10004627-1857812400-1857816000@www.gbt-trier.de
SUMMARY:Service-Büro Ehrang
DESCRIPTION:Das Service Büro\, in der Florastr. 22 im Erdgeschoss rechts\, ist zu den genannten Zeiten von einem/r Kundenbetreuer*in besetzt.
URL:https://www.gbt-trier.de/veranstaltungen/service-buero-ehrang/2028-11-14/
LOCATION:Service-Büro Ehrang\, Florastraße 22\, Ehrang\, Rheinland-Pfalz\, Germany
CATEGORIES:Öffnungszeiten
END:VEVENT
BEGIN:VEVENT
DTSTART;TZID=Europe/Berlin:20281115T090000
DTEND;TZID=Europe/Berlin:20281115T100000
DTSTAMP:20260426T045905
CREATED:20260223T082304Z
LAST-MODIFIED:20260223T084627Z
UID:10005255-1857891600-1857895200@www.gbt-trier.de
SUMMARY:Service-Büro Mariahof
DESCRIPTION:In dem angegebenen Zeitraum ist ein/e Kundenbetreuer*in persönlich für Sie da. Sie finden das Service-Büro in der Reichensperger Straße 14a.
URL:https://www.gbt-trier.de/veranstaltungen/service-buero-mariahof-4/2028-11-15/
LOCATION:Maps\, Reichensperger Straße 14 a\, Trier\, 54295\, Germany
CATEGORIES:Öffnungszeiten
END:VEVENT
BEGIN:VEVENT
DTSTART;TZID=Europe/Berlin:20281116T090000
DTEND;TZID=Europe/Berlin:20281116T100000
DTSTAMP:20260426T045905
CREATED:20250204T135250Z
LAST-MODIFIED:20250214T082114Z
UID:10001582-1857978000-1857981600@www.gbt-trier.de
SUMMARY:Service-Büro Im Schammat
DESCRIPTION:Das Service-Büro im Schammat 52 (EG rechts) ist zu den angegebenen Zeiten von einem/r Kundenbetreuer*in besetzt.
URL:https://www.gbt-trier.de/veranstaltungen/service-buero-im-schammat-2/2028-11-16/
LOCATION:Service-Büro Schammat\, Im Schammat 52\, Trier\, Rheinland-Pfalz\, Germany
CATEGORIES:Öffnungszeiten
END:VEVENT
BEGIN:VEVENT
DTSTART;TZID=Europe/Berlin:20281116T090000
DTEND;TZID=Europe/Berlin:20281116T100000
DTSTAMP:20260426T045905
CREATED:20250204T140049Z
LAST-MODIFIED:20250214T082002Z
UID:10002510-1857978000-1857981600@www.gbt-trier.de
SUMMARY:Service-Büro Trier West
DESCRIPTION:Ein/e Kundenbetreuer*in ist persönlich für Sie\, zu den genannten Zeiten\, da. Das Büro befindet sich in der Andreas-Hoevel-Str. 2 im Erdgeschoss (Wohnung 51).
URL:https://www.gbt-trier.de/veranstaltungen/service-buero-trier-west-2/2028-11-16/
LOCATION:Service-Büro West\, Andreas Hoevel Straße 2\, Trier\, Rheinland-Pfalz\, Germany
CATEGORIES:Öffnungszeiten
END:VEVENT
BEGIN:VEVENT
DTSTART;TZID=Europe/Berlin:20281121T090000
DTEND;TZID=Europe/Berlin:20281121T100000
DTSTAMP:20260426T045905
CREATED:20250204T141330Z
LAST-MODIFIED:20250214T081043Z
UID:10003821-1858410000-1858413600@www.gbt-trier.de
SUMMARY:Service-Büro Weidengraben
DESCRIPTION:In dem angegebenen Zeitraum ist ein/e Kundenbetreuer*in persönlich für Sie da. Sie finden das Service-Büro Am Weidengraben 8 im Erdgeschoss (Wohnung 67).
URL:https://www.gbt-trier.de/veranstaltungen/service-buero-weidengraben-2/2028-11-21/
LOCATION:Service-Büro Weidengraben\, Am Weidengraben 8\, Trier\, Rheinland-Pfalz\, Germany
CATEGORIES:Öffnungszeiten
END:VEVENT
BEGIN:VEVENT
DTSTART;TZID=Europe/Berlin:20281121T110000
DTEND;TZID=Europe/Berlin:20281121T120000
DTSTAMP:20260426T045905
CREATED:20260223T080720Z
LAST-MODIFIED:20260223T084017Z
UID:10004628-1858417200-1858420800@www.gbt-trier.de
SUMMARY:Service-Büro Ehrang
DESCRIPTION:Das Service Büro\, in der Florastr. 22 im Erdgeschoss rechts\, ist zu den genannten Zeiten von einem/r Kundenbetreuer*in besetzt.
URL:https://www.gbt-trier.de/veranstaltungen/service-buero-ehrang/2028-11-21/
LOCATION:Service-Büro Ehrang\, Florastraße 22\, Ehrang\, Rheinland-Pfalz\, Germany
CATEGORIES:Öffnungszeiten
END:VEVENT
BEGIN:VEVENT
DTSTART;TZID=Europe/Berlin:20281122T090000
DTEND;TZID=Europe/Berlin:20281122T100000
DTSTAMP:20260426T045905
CREATED:20260223T082304Z
LAST-MODIFIED:20260223T084627Z
UID:10005256-1858496400-1858500000@www.gbt-trier.de
SUMMARY:Service-Büro Mariahof
DESCRIPTION:In dem angegebenen Zeitraum ist ein/e Kundenbetreuer*in persönlich für Sie da. Sie finden das Service-Büro in der Reichensperger Straße 14a.
URL:https://www.gbt-trier.de/veranstaltungen/service-buero-mariahof-4/2028-11-22/
LOCATION:Maps\, Reichensperger Straße 14 a\, Trier\, 54295\, Germany
CATEGORIES:Öffnungszeiten
END:VEVENT
BEGIN:VEVENT
DTSTART;TZID=Europe/Berlin:20281123T090000
DTEND;TZID=Europe/Berlin:20281123T100000
DTSTAMP:20260426T045905
CREATED:20250204T135250Z
LAST-MODIFIED:20250214T082114Z
UID:10001583-1858582800-1858586400@www.gbt-trier.de
SUMMARY:Service-Büro Im Schammat
DESCRIPTION:Das Service-Büro im Schammat 52 (EG rechts) ist zu den angegebenen Zeiten von einem/r Kundenbetreuer*in besetzt.
URL:https://www.gbt-trier.de/veranstaltungen/service-buero-im-schammat-2/2028-11-23/
LOCATION:Service-Büro Schammat\, Im Schammat 52\, Trier\, Rheinland-Pfalz\, Germany
CATEGORIES:Öffnungszeiten
END:VEVENT
BEGIN:VEVENT
DTSTART;TZID=Europe/Berlin:20281123T090000
DTEND;TZID=Europe/Berlin:20281123T100000
DTSTAMP:20260426T045905
CREATED:20250204T140049Z
LAST-MODIFIED:20250214T082002Z
UID:10002511-1858582800-1858586400@www.gbt-trier.de
SUMMARY:Service-Büro Trier West
DESCRIPTION:Ein/e Kundenbetreuer*in ist persönlich für Sie\, zu den genannten Zeiten\, da. Das Büro befindet sich in der Andreas-Hoevel-Str. 2 im Erdgeschoss (Wohnung 51).
URL:https://www.gbt-trier.de/veranstaltungen/service-buero-trier-west-2/2028-11-23/
LOCATION:Service-Büro West\, Andreas Hoevel Straße 2\, Trier\, Rheinland-Pfalz\, Germany
CATEGORIES:Öffnungszeiten
END:VEVENT
BEGIN:VEVENT
DTSTART;TZID=Europe/Berlin:20281128T090000
DTEND;TZID=Europe/Berlin:20281128T100000
DTSTAMP:20260426T045905
CREATED:20250204T141330Z
LAST-MODIFIED:20250214T081043Z
UID:10003822-1859014800-1859018400@www.gbt-trier.de
SUMMARY:Service-Büro Weidengraben
DESCRIPTION:In dem angegebenen Zeitraum ist ein/e Kundenbetreuer*in persönlich für Sie da. Sie finden das Service-Büro Am Weidengraben 8 im Erdgeschoss (Wohnung 67).
URL:https://www.gbt-trier.de/veranstaltungen/service-buero-weidengraben-2/2028-11-28/
LOCATION:Service-Büro Weidengraben\, Am Weidengraben 8\, Trier\, Rheinland-Pfalz\, Germany
CATEGORIES:Öffnungszeiten
END:VEVENT
BEGIN:VEVENT
DTSTART;TZID=Europe/Berlin:20281128T110000
DTEND;TZID=Europe/Berlin:20281128T120000
DTSTAMP:20260426T045905
CREATED:20260223T080720Z
LAST-MODIFIED:20260223T084017Z
UID:10004629-1859022000-1859025600@www.gbt-trier.de
SUMMARY:Service-Büro Ehrang
DESCRIPTION:Das Service Büro\, in der Florastr. 22 im Erdgeschoss rechts\, ist zu den genannten Zeiten von einem/r Kundenbetreuer*in besetzt.
URL:https://www.gbt-trier.de/veranstaltungen/service-buero-ehrang/2028-11-28/
LOCATION:Service-Büro Ehrang\, Florastraße 22\, Ehrang\, Rheinland-Pfalz\, Germany
CATEGORIES:Öffnungszeiten
END:VEVENT
BEGIN:VEVENT
DTSTART;TZID=Europe/Berlin:20281129T090000
DTEND;TZID=Europe/Berlin:20281129T100000
DTSTAMP:20260426T045905
CREATED:20260223T082304Z
LAST-MODIFIED:20260223T084627Z
UID:10005257-1859101200-1859104800@www.gbt-trier.de
SUMMARY:Service-Büro Mariahof
DESCRIPTION:In dem angegebenen Zeitraum ist ein/e Kundenbetreuer*in persönlich für Sie da. Sie finden das Service-Büro in der Reichensperger Straße 14a.
URL:https://www.gbt-trier.de/veranstaltungen/service-buero-mariahof-4/2028-11-29/
LOCATION:Maps\, Reichensperger Straße 14 a\, Trier\, 54295\, Germany
CATEGORIES:Öffnungszeiten
END:VEVENT
BEGIN:VEVENT
DTSTART;TZID=Europe/Berlin:20281130T090000
DTEND;TZID=Europe/Berlin:20281130T100000
DTSTAMP:20260426T045905
CREATED:20250204T135250Z
LAST-MODIFIED:20250214T082114Z
UID:10001584-1859187600-1859191200@www.gbt-trier.de
SUMMARY:Service-Büro Im Schammat
DESCRIPTION:Das Service-Büro im Schammat 52 (EG rechts) ist zu den angegebenen Zeiten von einem/r Kundenbetreuer*in besetzt.
URL:https://www.gbt-trier.de/veranstaltungen/service-buero-im-schammat-2/2028-11-30/
LOCATION:Service-Büro Schammat\, Im Schammat 52\, Trier\, Rheinland-Pfalz\, Germany
CATEGORIES:Öffnungszeiten
END:VEVENT
BEGIN:VEVENT
DTSTART;TZID=Europe/Berlin:20281130T090000
DTEND;TZID=Europe/Berlin:20281130T100000
DTSTAMP:20260426T045905
CREATED:20250204T140049Z
LAST-MODIFIED:20250214T082002Z
UID:10002512-1859187600-1859191200@www.gbt-trier.de
SUMMARY:Service-Büro Trier West
DESCRIPTION:Ein/e Kundenbetreuer*in ist persönlich für Sie\, zu den genannten Zeiten\, da. Das Büro befindet sich in der Andreas-Hoevel-Str. 2 im Erdgeschoss (Wohnung 51).
URL:https://www.gbt-trier.de/veranstaltungen/service-buero-trier-west-2/2028-11-30/
LOCATION:Service-Büro West\, Andreas Hoevel Straße 2\, Trier\, Rheinland-Pfalz\, Germany
CATEGORIES:Öffnungszeiten
END:VEVENT
END:VCALENDAR