BEGIN:VCALENDAR
VERSION:2.0
PRODID:-//gbt Trier - ECPv6.15.12.2//NONSGML v1.0//EN
CALSCALE:GREGORIAN
METHOD:PUBLISH
X-ORIGINAL-URL:https://www.gbt-trier.de
X-WR-CALDESC:Veranstaltungen für gbt Trier
REFRESH-INTERVAL;VALUE=DURATION:PT1H
X-Robots-Tag:noindex
X-PUBLISHED-TTL:PT1H
BEGIN:VTIMEZONE
TZID:Europe/Berlin
BEGIN:DAYLIGHT
TZOFFSETFROM:+0100
TZOFFSETTO:+0200
TZNAME:CEST
DTSTART:20280326T010000
END:DAYLIGHT
BEGIN:STANDARD
TZOFFSETFROM:+0200
TZOFFSETTO:+0100
TZNAME:CET
DTSTART:20281029T010000
END:STANDARD
BEGIN:DAYLIGHT
TZOFFSETFROM:+0100
TZOFFSETTO:+0200
TZNAME:CEST
DTSTART:20290325T010000
END:DAYLIGHT
BEGIN:STANDARD
TZOFFSETFROM:+0200
TZOFFSETTO:+0100
TZNAME:CET
DTSTART:20291028T010000
END:STANDARD
BEGIN:DAYLIGHT
TZOFFSETFROM:+0100
TZOFFSETTO:+0200
TZNAME:CEST
DTSTART:20300331T010000
END:DAYLIGHT
BEGIN:STANDARD
TZOFFSETFROM:+0200
TZOFFSETTO:+0100
TZNAME:CET
DTSTART:20301027T010000
END:STANDARD
BEGIN:DAYLIGHT
TZOFFSETFROM:+0100
TZOFFSETTO:+0200
TZNAME:CEST
DTSTART:20310330T010000
END:DAYLIGHT
BEGIN:STANDARD
TZOFFSETFROM:+0200
TZOFFSETTO:+0100
TZNAME:CET
DTSTART:20311026T010000
END:STANDARD
END:VTIMEZONE
BEGIN:VEVENT
DTSTART;TZID=Europe/Berlin:20291226T090000
DTEND;TZID=Europe/Berlin:20291226T100000
DTSTAMP:20260421T122628
CREATED:20260223T082304Z
LAST-MODIFIED:20260223T084627Z
UID:10005313-1892970000-1892973600@www.gbt-trier.de
SUMMARY:Service-Büro Mariahof
DESCRIPTION:In dem angegebenen Zeitraum ist ein/e Kundenbetreuer*in persönlich für Sie da. Sie finden das Service-Büro in der Reichensperger Straße 14a.
URL:https://www.gbt-trier.de/veranstaltungen/service-buero-mariahof-4/2029-12-26/
LOCATION:Maps\, Reichensperger Straße 14 a\, Trier\, 54295\, Germany
CATEGORIES:Öffnungszeiten
END:VEVENT
BEGIN:VEVENT
DTSTART;TZID=Europe/Berlin:20300102T090000
DTEND;TZID=Europe/Berlin:20300102T100000
DTSTAMP:20260421T122628
CREATED:20260223T082304Z
LAST-MODIFIED:20260223T084627Z
UID:10005314-1893574800-1893578400@www.gbt-trier.de
SUMMARY:Service-Büro Mariahof
DESCRIPTION:In dem angegebenen Zeitraum ist ein/e Kundenbetreuer*in persönlich für Sie da. Sie finden das Service-Büro in der Reichensperger Straße 14a.
URL:https://www.gbt-trier.de/veranstaltungen/service-buero-mariahof-4/2030-01-02/
LOCATION:Maps\, Reichensperger Straße 14 a\, Trier\, 54295\, Germany
CATEGORIES:Öffnungszeiten
END:VEVENT
BEGIN:VEVENT
DTSTART;TZID=Europe/Berlin:20300109T090000
DTEND;TZID=Europe/Berlin:20300109T100000
DTSTAMP:20260421T122628
CREATED:20260223T082304Z
LAST-MODIFIED:20260223T084627Z
UID:10005315-1894179600-1894183200@www.gbt-trier.de
SUMMARY:Service-Büro Mariahof
DESCRIPTION:In dem angegebenen Zeitraum ist ein/e Kundenbetreuer*in persönlich für Sie da. Sie finden das Service-Büro in der Reichensperger Straße 14a.
URL:https://www.gbt-trier.de/veranstaltungen/service-buero-mariahof-4/2030-01-09/
LOCATION:Maps\, Reichensperger Straße 14 a\, Trier\, 54295\, Germany
CATEGORIES:Öffnungszeiten
END:VEVENT
BEGIN:VEVENT
DTSTART;TZID=Europe/Berlin:20300116T090000
DTEND;TZID=Europe/Berlin:20300116T100000
DTSTAMP:20260421T122628
CREATED:20260223T082304Z
LAST-MODIFIED:20260223T084627Z
UID:10005316-1894784400-1894788000@www.gbt-trier.de
SUMMARY:Service-Büro Mariahof
DESCRIPTION:In dem angegebenen Zeitraum ist ein/e Kundenbetreuer*in persönlich für Sie da. Sie finden das Service-Büro in der Reichensperger Straße 14a.
URL:https://www.gbt-trier.de/veranstaltungen/service-buero-mariahof-4/2030-01-16/
LOCATION:Maps\, Reichensperger Straße 14 a\, Trier\, 54295\, Germany
CATEGORIES:Öffnungszeiten
END:VEVENT
BEGIN:VEVENT
DTSTART;TZID=Europe/Berlin:20300123T090000
DTEND;TZID=Europe/Berlin:20300123T100000
DTSTAMP:20260421T122628
CREATED:20260223T082304Z
LAST-MODIFIED:20260223T084627Z
UID:10005317-1895389200-1895392800@www.gbt-trier.de
SUMMARY:Service-Büro Mariahof
DESCRIPTION:In dem angegebenen Zeitraum ist ein/e Kundenbetreuer*in persönlich für Sie da. Sie finden das Service-Büro in der Reichensperger Straße 14a.
URL:https://www.gbt-trier.de/veranstaltungen/service-buero-mariahof-4/2030-01-23/
LOCATION:Maps\, Reichensperger Straße 14 a\, Trier\, 54295\, Germany
CATEGORIES:Öffnungszeiten
END:VEVENT
BEGIN:VEVENT
DTSTART;TZID=Europe/Berlin:20300130T090000
DTEND;TZID=Europe/Berlin:20300130T100000
DTSTAMP:20260421T122628
CREATED:20260223T082304Z
LAST-MODIFIED:20260223T084627Z
UID:10005318-1895994000-1895997600@www.gbt-trier.de
SUMMARY:Service-Büro Mariahof
DESCRIPTION:In dem angegebenen Zeitraum ist ein/e Kundenbetreuer*in persönlich für Sie da. Sie finden das Service-Büro in der Reichensperger Straße 14a.
URL:https://www.gbt-trier.de/veranstaltungen/service-buero-mariahof-4/2030-01-30/
LOCATION:Maps\, Reichensperger Straße 14 a\, Trier\, 54295\, Germany
CATEGORIES:Öffnungszeiten
END:VEVENT
BEGIN:VEVENT
DTSTART;TZID=Europe/Berlin:20300206T090000
DTEND;TZID=Europe/Berlin:20300206T100000
DTSTAMP:20260421T122628
CREATED:20260223T082304Z
LAST-MODIFIED:20260223T084627Z
UID:10005319-1896598800-1896602400@www.gbt-trier.de
SUMMARY:Service-Büro Mariahof
DESCRIPTION:In dem angegebenen Zeitraum ist ein/e Kundenbetreuer*in persönlich für Sie da. Sie finden das Service-Büro in der Reichensperger Straße 14a.
URL:https://www.gbt-trier.de/veranstaltungen/service-buero-mariahof-4/2030-02-06/
LOCATION:Maps\, Reichensperger Straße 14 a\, Trier\, 54295\, Germany
CATEGORIES:Öffnungszeiten
END:VEVENT
BEGIN:VEVENT
DTSTART;TZID=Europe/Berlin:20300213T090000
DTEND;TZID=Europe/Berlin:20300213T100000
DTSTAMP:20260421T122628
CREATED:20260223T082304Z
LAST-MODIFIED:20260223T084627Z
UID:10005320-1897203600-1897207200@www.gbt-trier.de
SUMMARY:Service-Büro Mariahof
DESCRIPTION:In dem angegebenen Zeitraum ist ein/e Kundenbetreuer*in persönlich für Sie da. Sie finden das Service-Büro in der Reichensperger Straße 14a.
URL:https://www.gbt-trier.de/veranstaltungen/service-buero-mariahof-4/2030-02-13/
LOCATION:Maps\, Reichensperger Straße 14 a\, Trier\, 54295\, Germany
CATEGORIES:Öffnungszeiten
END:VEVENT
BEGIN:VEVENT
DTSTART;TZID=Europe/Berlin:20300220T090000
DTEND;TZID=Europe/Berlin:20300220T100000
DTSTAMP:20260421T122628
CREATED:20260223T082304Z
LAST-MODIFIED:20260223T084627Z
UID:10005321-1897808400-1897812000@www.gbt-trier.de
SUMMARY:Service-Büro Mariahof
DESCRIPTION:In dem angegebenen Zeitraum ist ein/e Kundenbetreuer*in persönlich für Sie da. Sie finden das Service-Büro in der Reichensperger Straße 14a.
URL:https://www.gbt-trier.de/veranstaltungen/service-buero-mariahof-4/2030-02-20/
LOCATION:Maps\, Reichensperger Straße 14 a\, Trier\, 54295\, Germany
CATEGORIES:Öffnungszeiten
END:VEVENT
BEGIN:VEVENT
DTSTART;TZID=Europe/Berlin:20300227T090000
DTEND;TZID=Europe/Berlin:20300227T100000
DTSTAMP:20260421T122628
CREATED:20260223T082304Z
LAST-MODIFIED:20260223T084627Z
UID:10005322-1898413200-1898416800@www.gbt-trier.de
SUMMARY:Service-Büro Mariahof
DESCRIPTION:In dem angegebenen Zeitraum ist ein/e Kundenbetreuer*in persönlich für Sie da. Sie finden das Service-Büro in der Reichensperger Straße 14a.
URL:https://www.gbt-trier.de/veranstaltungen/service-buero-mariahof-4/2030-02-27/
LOCATION:Maps\, Reichensperger Straße 14 a\, Trier\, 54295\, Germany
CATEGORIES:Öffnungszeiten
END:VEVENT
BEGIN:VEVENT
DTSTART;TZID=Europe/Berlin:20300306T090000
DTEND;TZID=Europe/Berlin:20300306T100000
DTSTAMP:20260421T122628
CREATED:20260223T082304Z
LAST-MODIFIED:20260223T084627Z
UID:10005323-1899018000-1899021600@www.gbt-trier.de
SUMMARY:Service-Büro Mariahof
DESCRIPTION:In dem angegebenen Zeitraum ist ein/e Kundenbetreuer*in persönlich für Sie da. Sie finden das Service-Büro in der Reichensperger Straße 14a.
URL:https://www.gbt-trier.de/veranstaltungen/service-buero-mariahof-4/2030-03-06/
LOCATION:Maps\, Reichensperger Straße 14 a\, Trier\, 54295\, Germany
CATEGORIES:Öffnungszeiten
END:VEVENT
BEGIN:VEVENT
DTSTART;TZID=Europe/Berlin:20300313T090000
DTEND;TZID=Europe/Berlin:20300313T100000
DTSTAMP:20260421T122628
CREATED:20260223T082304Z
LAST-MODIFIED:20260223T084627Z
UID:10005324-1899622800-1899626400@www.gbt-trier.de
SUMMARY:Service-Büro Mariahof
DESCRIPTION:In dem angegebenen Zeitraum ist ein/e Kundenbetreuer*in persönlich für Sie da. Sie finden das Service-Büro in der Reichensperger Straße 14a.
URL:https://www.gbt-trier.de/veranstaltungen/service-buero-mariahof-4/2030-03-13/
LOCATION:Maps\, Reichensperger Straße 14 a\, Trier\, 54295\, Germany
CATEGORIES:Öffnungszeiten
END:VEVENT
BEGIN:VEVENT
DTSTART;TZID=Europe/Berlin:20300320T090000
DTEND;TZID=Europe/Berlin:20300320T100000
DTSTAMP:20260421T122628
CREATED:20260223T082304Z
LAST-MODIFIED:20260223T084627Z
UID:10005325-1900227600-1900231200@www.gbt-trier.de
SUMMARY:Service-Büro Mariahof
DESCRIPTION:In dem angegebenen Zeitraum ist ein/e Kundenbetreuer*in persönlich für Sie da. Sie finden das Service-Büro in der Reichensperger Straße 14a.
URL:https://www.gbt-trier.de/veranstaltungen/service-buero-mariahof-4/2030-03-20/
LOCATION:Maps\, Reichensperger Straße 14 a\, Trier\, 54295\, Germany
CATEGORIES:Öffnungszeiten
END:VEVENT
BEGIN:VEVENT
DTSTART;TZID=Europe/Berlin:20300327T090000
DTEND;TZID=Europe/Berlin:20300327T100000
DTSTAMP:20260421T122628
CREATED:20260223T082304Z
LAST-MODIFIED:20260223T084627Z
UID:10005326-1900832400-1900836000@www.gbt-trier.de
SUMMARY:Service-Büro Mariahof
DESCRIPTION:In dem angegebenen Zeitraum ist ein/e Kundenbetreuer*in persönlich für Sie da. Sie finden das Service-Büro in der Reichensperger Straße 14a.
URL:https://www.gbt-trier.de/veranstaltungen/service-buero-mariahof-4/2030-03-27/
LOCATION:Maps\, Reichensperger Straße 14 a\, Trier\, 54295\, Germany
CATEGORIES:Öffnungszeiten
END:VEVENT
BEGIN:VEVENT
DTSTART;TZID=Europe/Berlin:20300403T090000
DTEND;TZID=Europe/Berlin:20300403T100000
DTSTAMP:20260421T122628
CREATED:20260223T082304Z
LAST-MODIFIED:20260223T084627Z
UID:10005327-1901437200-1901440800@www.gbt-trier.de
SUMMARY:Service-Büro Mariahof
DESCRIPTION:In dem angegebenen Zeitraum ist ein/e Kundenbetreuer*in persönlich für Sie da. Sie finden das Service-Büro in der Reichensperger Straße 14a.
URL:https://www.gbt-trier.de/veranstaltungen/service-buero-mariahof-4/2030-04-03/
LOCATION:Maps\, Reichensperger Straße 14 a\, Trier\, 54295\, Germany
CATEGORIES:Öffnungszeiten
END:VEVENT
BEGIN:VEVENT
DTSTART;TZID=Europe/Berlin:20300410T090000
DTEND;TZID=Europe/Berlin:20300410T100000
DTSTAMP:20260421T122628
CREATED:20260223T082304Z
LAST-MODIFIED:20260223T084627Z
UID:10005328-1902042000-1902045600@www.gbt-trier.de
SUMMARY:Service-Büro Mariahof
DESCRIPTION:In dem angegebenen Zeitraum ist ein/e Kundenbetreuer*in persönlich für Sie da. Sie finden das Service-Büro in der Reichensperger Straße 14a.
URL:https://www.gbt-trier.de/veranstaltungen/service-buero-mariahof-4/2030-04-10/
LOCATION:Maps\, Reichensperger Straße 14 a\, Trier\, 54295\, Germany
CATEGORIES:Öffnungszeiten
END:VEVENT
BEGIN:VEVENT
DTSTART;TZID=Europe/Berlin:20300417T090000
DTEND;TZID=Europe/Berlin:20300417T100000
DTSTAMP:20260421T122628
CREATED:20260223T082304Z
LAST-MODIFIED:20260223T084627Z
UID:10005329-1902646800-1902650400@www.gbt-trier.de
SUMMARY:Service-Büro Mariahof
DESCRIPTION:In dem angegebenen Zeitraum ist ein/e Kundenbetreuer*in persönlich für Sie da. Sie finden das Service-Büro in der Reichensperger Straße 14a.
URL:https://www.gbt-trier.de/veranstaltungen/service-buero-mariahof-4/2030-04-17/
LOCATION:Maps\, Reichensperger Straße 14 a\, Trier\, 54295\, Germany
CATEGORIES:Öffnungszeiten
END:VEVENT
BEGIN:VEVENT
DTSTART;TZID=Europe/Berlin:20300424T090000
DTEND;TZID=Europe/Berlin:20300424T100000
DTSTAMP:20260421T122628
CREATED:20260223T082304Z
LAST-MODIFIED:20260223T084627Z
UID:10005330-1903251600-1903255200@www.gbt-trier.de
SUMMARY:Service-Büro Mariahof
DESCRIPTION:In dem angegebenen Zeitraum ist ein/e Kundenbetreuer*in persönlich für Sie da. Sie finden das Service-Büro in der Reichensperger Straße 14a.
URL:https://www.gbt-trier.de/veranstaltungen/service-buero-mariahof-4/2030-04-24/
LOCATION:Maps\, Reichensperger Straße 14 a\, Trier\, 54295\, Germany
CATEGORIES:Öffnungszeiten
END:VEVENT
BEGIN:VEVENT
DTSTART;TZID=Europe/Berlin:20300501T090000
DTEND;TZID=Europe/Berlin:20300501T100000
DTSTAMP:20260421T122628
CREATED:20260223T082304Z
LAST-MODIFIED:20260223T084627Z
UID:10005331-1903856400-1903860000@www.gbt-trier.de
SUMMARY:Service-Büro Mariahof
DESCRIPTION:In dem angegebenen Zeitraum ist ein/e Kundenbetreuer*in persönlich für Sie da. Sie finden das Service-Büro in der Reichensperger Straße 14a.
URL:https://www.gbt-trier.de/veranstaltungen/service-buero-mariahof-4/2030-05-01/
LOCATION:Maps\, Reichensperger Straße 14 a\, Trier\, 54295\, Germany
CATEGORIES:Öffnungszeiten
END:VEVENT
BEGIN:VEVENT
DTSTART;TZID=Europe/Berlin:20300508T090000
DTEND;TZID=Europe/Berlin:20300508T100000
DTSTAMP:20260421T122628
CREATED:20260223T082304Z
LAST-MODIFIED:20260223T084627Z
UID:10005332-1904461200-1904464800@www.gbt-trier.de
SUMMARY:Service-Büro Mariahof
DESCRIPTION:In dem angegebenen Zeitraum ist ein/e Kundenbetreuer*in persönlich für Sie da. Sie finden das Service-Büro in der Reichensperger Straße 14a.
URL:https://www.gbt-trier.de/veranstaltungen/service-buero-mariahof-4/2030-05-08/
LOCATION:Maps\, Reichensperger Straße 14 a\, Trier\, 54295\, Germany
CATEGORIES:Öffnungszeiten
END:VEVENT
BEGIN:VEVENT
DTSTART;TZID=Europe/Berlin:20300515T090000
DTEND;TZID=Europe/Berlin:20300515T100000
DTSTAMP:20260421T122628
CREATED:20260223T082304Z
LAST-MODIFIED:20260223T084627Z
UID:10005333-1905066000-1905069600@www.gbt-trier.de
SUMMARY:Service-Büro Mariahof
DESCRIPTION:In dem angegebenen Zeitraum ist ein/e Kundenbetreuer*in persönlich für Sie da. Sie finden das Service-Büro in der Reichensperger Straße 14a.
URL:https://www.gbt-trier.de/veranstaltungen/service-buero-mariahof-4/2030-05-15/
LOCATION:Maps\, Reichensperger Straße 14 a\, Trier\, 54295\, Germany
CATEGORIES:Öffnungszeiten
END:VEVENT
BEGIN:VEVENT
DTSTART;TZID=Europe/Berlin:20300522T090000
DTEND;TZID=Europe/Berlin:20300522T100000
DTSTAMP:20260421T122628
CREATED:20260223T082304Z
LAST-MODIFIED:20260223T084627Z
UID:10005334-1905670800-1905674400@www.gbt-trier.de
SUMMARY:Service-Büro Mariahof
DESCRIPTION:In dem angegebenen Zeitraum ist ein/e Kundenbetreuer*in persönlich für Sie da. Sie finden das Service-Büro in der Reichensperger Straße 14a.
URL:https://www.gbt-trier.de/veranstaltungen/service-buero-mariahof-4/2030-05-22/
LOCATION:Maps\, Reichensperger Straße 14 a\, Trier\, 54295\, Germany
CATEGORIES:Öffnungszeiten
END:VEVENT
BEGIN:VEVENT
DTSTART;TZID=Europe/Berlin:20300529T090000
DTEND;TZID=Europe/Berlin:20300529T100000
DTSTAMP:20260421T122628
CREATED:20260223T082304Z
LAST-MODIFIED:20260223T084627Z
UID:10005335-1906275600-1906279200@www.gbt-trier.de
SUMMARY:Service-Büro Mariahof
DESCRIPTION:In dem angegebenen Zeitraum ist ein/e Kundenbetreuer*in persönlich für Sie da. Sie finden das Service-Büro in der Reichensperger Straße 14a.
URL:https://www.gbt-trier.de/veranstaltungen/service-buero-mariahof-4/2030-05-29/
LOCATION:Maps\, Reichensperger Straße 14 a\, Trier\, 54295\, Germany
CATEGORIES:Öffnungszeiten
END:VEVENT
BEGIN:VEVENT
DTSTART;TZID=Europe/Berlin:20300605T090000
DTEND;TZID=Europe/Berlin:20300605T100000
DTSTAMP:20260421T122628
CREATED:20260223T082304Z
LAST-MODIFIED:20260223T084627Z
UID:10005336-1906880400-1906884000@www.gbt-trier.de
SUMMARY:Service-Büro Mariahof
DESCRIPTION:In dem angegebenen Zeitraum ist ein/e Kundenbetreuer*in persönlich für Sie da. Sie finden das Service-Büro in der Reichensperger Straße 14a.
URL:https://www.gbt-trier.de/veranstaltungen/service-buero-mariahof-4/2030-06-05/
LOCATION:Maps\, Reichensperger Straße 14 a\, Trier\, 54295\, Germany
CATEGORIES:Öffnungszeiten
END:VEVENT
BEGIN:VEVENT
DTSTART;TZID=Europe/Berlin:20300612T090000
DTEND;TZID=Europe/Berlin:20300612T100000
DTSTAMP:20260421T122628
CREATED:20260223T082304Z
LAST-MODIFIED:20260223T084627Z
UID:10005337-1907485200-1907488800@www.gbt-trier.de
SUMMARY:Service-Büro Mariahof
DESCRIPTION:In dem angegebenen Zeitraum ist ein/e Kundenbetreuer*in persönlich für Sie da. Sie finden das Service-Büro in der Reichensperger Straße 14a.
URL:https://www.gbt-trier.de/veranstaltungen/service-buero-mariahof-4/2030-06-12/
LOCATION:Maps\, Reichensperger Straße 14 a\, Trier\, 54295\, Germany
CATEGORIES:Öffnungszeiten
END:VEVENT
BEGIN:VEVENT
DTSTART;TZID=Europe/Berlin:20300619T090000
DTEND;TZID=Europe/Berlin:20300619T100000
DTSTAMP:20260421T122628
CREATED:20260223T082304Z
LAST-MODIFIED:20260223T084627Z
UID:10005338-1908090000-1908093600@www.gbt-trier.de
SUMMARY:Service-Büro Mariahof
DESCRIPTION:In dem angegebenen Zeitraum ist ein/e Kundenbetreuer*in persönlich für Sie da. Sie finden das Service-Büro in der Reichensperger Straße 14a.
URL:https://www.gbt-trier.de/veranstaltungen/service-buero-mariahof-4/2030-06-19/
LOCATION:Maps\, Reichensperger Straße 14 a\, Trier\, 54295\, Germany
CATEGORIES:Öffnungszeiten
END:VEVENT
BEGIN:VEVENT
DTSTART;TZID=Europe/Berlin:20300626T090000
DTEND;TZID=Europe/Berlin:20300626T100000
DTSTAMP:20260421T122628
CREATED:20260223T082304Z
LAST-MODIFIED:20260223T084627Z
UID:10005339-1908694800-1908698400@www.gbt-trier.de
SUMMARY:Service-Büro Mariahof
DESCRIPTION:In dem angegebenen Zeitraum ist ein/e Kundenbetreuer*in persönlich für Sie da. Sie finden das Service-Büro in der Reichensperger Straße 14a.
URL:https://www.gbt-trier.de/veranstaltungen/service-buero-mariahof-4/2030-06-26/
LOCATION:Maps\, Reichensperger Straße 14 a\, Trier\, 54295\, Germany
CATEGORIES:Öffnungszeiten
END:VEVENT
BEGIN:VEVENT
DTSTART;TZID=Europe/Berlin:20300703T090000
DTEND;TZID=Europe/Berlin:20300703T100000
DTSTAMP:20260421T122628
CREATED:20260223T082304Z
LAST-MODIFIED:20260223T084627Z
UID:10005340-1909299600-1909303200@www.gbt-trier.de
SUMMARY:Service-Büro Mariahof
DESCRIPTION:In dem angegebenen Zeitraum ist ein/e Kundenbetreuer*in persönlich für Sie da. Sie finden das Service-Büro in der Reichensperger Straße 14a.
URL:https://www.gbt-trier.de/veranstaltungen/service-buero-mariahof-4/2030-07-03/
LOCATION:Maps\, Reichensperger Straße 14 a\, Trier\, 54295\, Germany
CATEGORIES:Öffnungszeiten
END:VEVENT
BEGIN:VEVENT
DTSTART;TZID=Europe/Berlin:20300710T090000
DTEND;TZID=Europe/Berlin:20300710T100000
DTSTAMP:20260421T122628
CREATED:20260223T082304Z
LAST-MODIFIED:20260223T084627Z
UID:10005341-1909904400-1909908000@www.gbt-trier.de
SUMMARY:Service-Büro Mariahof
DESCRIPTION:In dem angegebenen Zeitraum ist ein/e Kundenbetreuer*in persönlich für Sie da. Sie finden das Service-Büro in der Reichensperger Straße 14a.
URL:https://www.gbt-trier.de/veranstaltungen/service-buero-mariahof-4/2030-07-10/
LOCATION:Maps\, Reichensperger Straße 14 a\, Trier\, 54295\, Germany
CATEGORIES:Öffnungszeiten
END:VEVENT
BEGIN:VEVENT
DTSTART;TZID=Europe/Berlin:20300717T090000
DTEND;TZID=Europe/Berlin:20300717T100000
DTSTAMP:20260421T122628
CREATED:20260223T082304Z
LAST-MODIFIED:20260223T084627Z
UID:10005342-1910509200-1910512800@www.gbt-trier.de
SUMMARY:Service-Büro Mariahof
DESCRIPTION:In dem angegebenen Zeitraum ist ein/e Kundenbetreuer*in persönlich für Sie da. Sie finden das Service-Büro in der Reichensperger Straße 14a.
URL:https://www.gbt-trier.de/veranstaltungen/service-buero-mariahof-4/2030-07-17/
LOCATION:Maps\, Reichensperger Straße 14 a\, Trier\, 54295\, Germany
CATEGORIES:Öffnungszeiten
END:VEVENT
END:VCALENDAR